Workbook
Name CEPLAN: #REF!
Name CEPLAN: #REF!
Name CEPLAN: #REF!
Name diasuteis: #REF!
Name diasuteis: #REF!
Name diasuteis: #REF!
Name Ferias: #REF!
Name Ferias: #REF!
Name Ferias: #REF!
Name RD: OFFSET(#REF!,(MATCH(SMALL(#REF!,ROW()-10),#REF!,0)-1),0)
Name RD: OFFSET(#REF!,(MATCH(SMALL(#REF!,ROW()-10),#REF!,0)-1),0)
Name RD: OFFSET(#REF!,(MATCH(SMALL(#REF!,ROW()-10),#REF!,0)-1),0)

Sheet GESTOR DA ATA
A1: SRP PE 1070/2026 SGPE 15960/2026 | C1: OBJETO: CONTRATAÇÃO DE EMPRESA PARA MANUTENÇÃO DE EXTINTORES E AQUISIÇÃO DE MATERIAIS E EQUIPAMENTOS DE SEGURANÇA E COMBATE A INCÊNDIO PARA A UDESC | I1: VIGÊNCIA DA ATA: 22/10/2026 A 22/10/2027
A2: CONTROLE DO GESTOR | R2: 1º TERMO ADITIVO
A3: Lote | B3: Item | C3: Empresa | D3: Descrição | E3: Marca | F3: Unidade de Compra | G3: Detalhamento | H3: Qtde Registrada | I3: Qtde Utilizada Ata | J3: Qtde Utilizada Total | K3: Quantidade disponível para aditivar | L3: Qtde Aditivada | M3: SALDO | N3: Valor Unitário | O3: Total Registrado | P3: Valor Total Aditivado | Q3: Valor Total Utilizado | R3: Qtde 1º TA EMPRESA (CENTRO) | S3: % 1º TA TA EMPRESA (CENTRO) | T3: VALOR 1º TA EMPRESA (CENTRO) | U3: % DO TOTAL DA ARP:
A4: 1 | B4: 1 | C4: APAG PRODUTOS E SERVIÇOS LTDA 02.591.012/0001-63 | D4: Bateria para centrais de alarme de incêndio endereçável 12V/1,3AH. Fornecimento e instalação. | E4: UNIPOWER | F4: PEÇA | G4: 30.28 | H4: 13 | I4: =SUM(REITORIA!J4,FAED!J4,CEART!J4,CERES!J4,CEAD!J4,CESFI!J4,CEFID!J4,MUSEU!J4,ESAG!J4) -> 0 | J4: =SUM(REITORIA!K4,FAED!K4,CEART!K4,CERES!K4,CEAD!K4,CESFI!K4,CEFID!K4,MUSEU!K4,ESAG!K4) -> 0 | K4: =H4*0.25-0.5-L4 -> 2.75 | L4: =SUM(REITORIA!N4,FAED!N4,CEART!N4,CERES!N4,CEAD!N4,CESFI!N4,CEFID!N4,MUSEU!N4,ESAG!N4) -> 0 | M4: =H4+L4-J4 -> 13 | N4: 100.45 | O4: =N4*H4 -> 1305.85 | P4: =L4*N4 -> 0 | Q4: =N4*J4 -> 0
B5: 2 | D5: Central de alarme de incêndio endereçável 125 endereços IP20 24V com bateria. Fornecimento e instalação. | E5: INTELBRAS | F5: PEÇA | G5: 30.28 | H5: 6 | I5: =SUM(REITORIA!J5,FAED!J5,CEART!J5,CERES!J5,CEAD!J5,CESFI!J5,CEFID!J5,MUSEU!J5,ESAG!J5) -> 0 | J5: =SUM(REITORIA!K5,FAED!K5,CEART!K5,CERES!K5,CEAD!K5,CESFI!K5,CEFID!K5,MUSEU!K5,ESAG!K5) -> 0 | K5: =H5*0.25-0.5-L5 -> 1 | L5: =SUM(REITORIA!N5,FAED!N5,CEART!N5,CERES!N5,CEAD!N5,CESFI!N5,CEFID!N5,MUSEU!N5,ESAG!N5) -> 0 | M5: =H5+L5-J5 -> 6 | N5: 1705.39 | O5: =N5*H5 -> 10232.34 | P5: =L5*N5 -> 0 | Q5: =N5*J5 -> 0
B6: 3 | D6: Detector óptico de fumaça endereçável compact. Fornecimento e instalação. | E6: INTELBRAS | F6: PEÇA | G6: 30.28 | H6: 20 | I6: =SUM(REITORIA!J6,FAED!J6,CEART!J6,CERES!J6,CEAD!J6,CESFI!J6,CEFID!J6,MUSEU!J6,ESAG!J6) -> 0 | J6: =SUM(REITORIA!K6,FAED!K6,CEART!K6,CERES!K6,CEAD!K6,CESFI!K6,CEFID!K6,MUSEU!K6,ESAG!K6) -> 0 | K6: =H6*0.25-0.5-L6 -> 4.5 | L6: =SUM(REITORIA!N6,FAED!N6,CEART!N6,CERES!N6,CEAD!N6,CESFI!N6,CEFID!N6,MUSEU!N6,ESAG!N6) -> 0 | M6: =H6+L6-J6 -> 20 | N6: 136.27 | O6: =N6*H6 -> 2725.4 | P6: =L6*N6 -> 0 | Q6: =N6*J6 -> 0
B7: 4 | D7: Detector óptico de fumaça endereçável 24V. Fornecimento e instalação. | E7: INTELBRAS | F7: PEÇA | G7: 30.28 | H7: 52 | I7: =SUM(REITORIA!J7,FAED!J7,CEART!J7,CERES!J7,CEAD!J7,CESFI!J7,CEFID!J7,MUSEU!J7,ESAG!J7) -> 0 | J7: =SUM(REITORIA!K7,FAED!K7,CEART!K7,CERES!K7,CEAD!K7,CESFI!K7,CEFID!K7,MUSEU!K7,ESAG!K7) -> 0 | K7: =H7*0.25-0.5-L7 -> 12.5 | L7: =SUM(REITORIA!N7,FAED!N7,CEART!N7,CERES!N7,CEAD!N7,CESFI!N7,CEFID!N7,MUSEU!N7,ESAG!N7) -> 0 | M7: =H7+L7-J7 -> 52 | N7: 154.18 | O7: =N7*H7 -> 8017.36 | P7: =L7*N7 -> 0 | Q7: =N7*J7 -> 0
B8: 5 | D8: Detector termovelocimétrico 24VCC endereçável com módulo (T). Fornecimento e instalação. | E8: INTELBRAS | F8: PEÇA | G8: 30.28 | H8: 22 | I8: =SUM(REITORIA!J8,FAED!J8,CEART!J8,CERES!J8,CEAD!J8,CESFI!J8,CEFID!J8,MUSEU!J8,ESAG!J8) -> 0 | J8: =SUM(REITORIA!K8,FAED!K8,CEART!K8,CERES!K8,CEAD!K8,CESFI!K8,CEFID!K8,MUSEU!K8,ESAG!K8) -> 0 | K8: =H8*0.25-0.5-L8 -> 5 | L8: =SUM(REITORIA!N8,FAED!N8,CEART!N8,CERES!N8,CEAD!N8,CESFI!N8,CEFID!N8,MUSEU!N8,ESAG!N8) -> 0 | M8: =H8+L8-J8 -> 22 | N8: 159.63 | O8: =N8*H8 -> 3511.86 | P8: =L8*N8 -> 0 | Q8: =N8*J8 -> 0
B9: 6 | D9: Fonte auxiliar IP20 24V endereçável. Fornecimento e instalação. | E9: INTELBRAS | F9: PEÇA | G9: 30.28 | H9: 5 | I9: =SUM(REITORIA!J9,FAED!J9,CEART!J9,CERES!J9,CEAD!J9,CESFI!J9,CEFID!J9,MUSEU!J9,ESAG!J9) -> 0 | J9: =SUM(REITORIA!K9,FAED!K9,CEART!K9,CERES!K9,CEAD!K9,CESFI!K9,CEFID!K9,MUSEU!K9,ESAG!K9) -> 0 | K9: =H9*0.25-0.5-L9 -> 0.75 | L9: =SUM(REITORIA!N9,FAED!N9,CEART!N9,CERES!N9,CEAD!N9,CESFI!N9,CEFID!N9,MUSEU!N9,ESAG!N9) -> 0 | M9: =H9+L9-J9 -> 5 | N9: 692.28 | O9: =N9*H9 -> 3461.4 | P9: =L9*N9 -> 0 | Q9: =N9*J9 -> 0
B10: 7 | D10: Fonte de alimentação IP20 24V endereçável. Fornecimento e instalação. | E10: INTELBRAS | F10: PEÇA | G10: 30.28 | H10: 7 | I10: =SUM(REITORIA!J10,FAED!J10,CEART!J10,CERES!J10,CEAD!J10,CESFI!J10,CEFID!J10,MUSEU!J10,ESAG!J10) -> 0 | J10: =SUM(REITORIA!K10,FAED!K10,CEART!K10,CERES!K10,CEAD!K10,CESFI!K10,CEFID!K10,MUSEU!K10,ESAG!K10) -> 0 | K10: =H10*0.25-0.5-L10 -> 1.25 | L10: =SUM(REITORIA!N10,FAED!N10,CEART!N10,CERES!N10,CEAD!N10,CESFI!N10,CEFID!N10,MUSEU!N10,ESAG!N10) -> 0 | M10: =H10+L10-J10 -> 7 | N10: 700.84 | O10: =N10*H10 -> 4905.88 | P10: =L10*N10 -> 0 | Q10: =N10*J10 -> 0
B11: 8 | D11: Caixa de alumínio para extintor PQS 6 kg. Fornecimento e instalação. | E11: APAG | F11: PEÇA | G11: 30.28 | H11: 29 | I11: =SUM(REITORIA!J11,FAED!J11,CEART!J11,CERES!J11,CEAD!J11,CESFI!J11,CEFID!J11,MUSEU!J11,ESAG!J11) -> 0 | J11: =SUM(REITORIA!K11,FAED!K11,CEART!K11,CERES!K11,CEAD!K11,CESFI!K11,CEFID!K11,MUSEU!K11,ESAG!K11) -> 0 | K11: =H11*0.25-0.5-L11 -> 6.75 | L11: =SUM(REITORIA!N11,FAED!N11,CEART!N11,CERES!N11,CEAD!N11,CESFI!N11,CEFID!N11,MUSEU!N11,ESAG!N11) -> 0 | M11: =H11+L11-J11 -> 29 | N11: 193.12 | O11: =N11*H11 -> 5600.48 | P11: =L11*N11 -> 0 | Q11: =N11*J11 -> 0
B12: 9 | D12: Carga em extintor CO2 04 kg. Fornecimento e instalação. | E12: APAG | F12: PEÇA | G12: 30.04 | H12: 25 | I12: =SUM(REITORIA!J12,FAED!J12,CEART!J12,CERES!J12,CEAD!J12,CESFI!J12,CEFID!J12,MUSEU!J12,ESAG!J12) -> 0 | J12: =SUM(REITORIA!K12,FAED!K12,CEART!K12,CERES!K12,CEAD!K12,CESFI!K12,CEFID!K12,MUSEU!K12,ESAG!K12) -> 0 | K12: =H12*0.25-0.5-L12 -> 5.75 | L12: =SUM(REITORIA!N12,FAED!N12,CEART!N12,CERES!N12,CEAD!N12,CESFI!N12,CEFID!N12,MUSEU!N12,ESAG!N12) -> 0 | M12: =H12+L12-J12 -> 25 | N12: 61.51 | O12: =N12*H12 -> 1537.75 | P12: =L12*N12 -> 0 | Q12: =N12*J12 -> 0
B13: 10 | D13: Carga em extintor CO2 06 kg. Fornecimento e instalação. | E13: APAG | F13: PEÇA | G13: 30.04 | H13: 150 | I13: =SUM(REITORIA!J13,FAED!J13,CEART!J13,CERES!J13,CEAD!J13,CESFI!J13,CEFID!J13,MUSEU!J13,ESAG!J13) -> 0 | J13: =SUM(REITORIA!K13,FAED!K13,CEART!K13,CERES!K13,CEAD!K13,CESFI!K13,CEFID!K13,MUSEU!K13,ESAG!K13) -> 0 | K13: =H13*0.25-0.5-L13 -> 37 | L13: =SUM(REITORIA!N13,FAED!N13,CEART!N13,CERES!N13,CEAD!N13,CESFI!N13,CEFID!N13,MUSEU!N13,ESAG!N13) -> 0 | M13: =H13+L13-J13 -> 150 | N13: 93.44 | O13: =N13*H13 -> 14016 | P13: =L13*N13 -> 0 | Q13: =N13*J13 -> 0
B14: 11 | D14: Carga em extintor pó químico 04 kg ABC. Fornecimento e instalação. | E14: APAG | F14: PEÇA | G14: 30.04 | H14: 284 | I14: =SUM(REITORIA!J14,FAED!J14,CEART!J14,CERES!J14,CEAD!J14,CESFI!J14,CEFID!J14,MUSEU!J14,ESAG!J14) -> 0 | J14: =SUM(REITORIA!K14,FAED!K14,CEART!K14,CERES!K14,CEAD!K14,CESFI!K14,CEFID!K14,MUSEU!K14,ESAG!K14) -> 0 | K14: =H14*0.25-0.5-L14 -> 70.5 | L14: =SUM(REITORIA!N14,FAED!N14,CEART!N14,CERES!N14,CEAD!N14,CESFI!N14,CEFID!N14,MUSEU!N14,ESAG!N14) -> 0 | M14: =H14+L14-J14 -> 284 | N14: 45.16 | O14: =N14*H14 -> 12825.44 | P14: =L14*N14 -> 0 | Q14: =N14*J14 -> 0
B15: 12 | D15: Carga em extintor pó químico 04 kg BC. Fornecimento e instalação. | E15: APAG | F15: PEÇA | G15: 30.04 | H15: 130 | I15: =SUM(REITORIA!J15,FAED!J15,CEART!J15,CERES!J15,CEAD!J15,CESFI!J15,CEFID!J15,MUSEU!J15,ESAG!J15) -> 0 | J15: =SUM(REITORIA!K15,FAED!K15,CEART!K15,CERES!K15,CEAD!K15,CESFI!K15,CEFID!K15,MUSEU!K15,ESAG!K15) -> 0 | K15: =H15*0.25-0.5-L15 -> 32 | L15: =SUM(REITORIA!N15,FAED!N15,CEART!N15,CERES!N15,CEAD!N15,CESFI!N15,CEFID!N15,MUSEU!N15,ESAG!N15) -> 0 | M15: =H15+L15-J15 -> 130 | N15: 42.82 | O15: =N15*H15 -> 5566.6 | P15: =L15*N15 -> 0 | Q15: =N15*J15 -> 0
B16: 13 | D16: Carga em extintor pó químico 06 kg BC. Fornecimento e instalação. | E16: APAG | F16: PEÇA | G16: 30.04 | H16: 153 | I16: =SUM(REITORIA!J16,FAED!J16,CEART!J16,CERES!J16,CEAD!J16,CESFI!J16,CEFID!J16,MUSEU!J16,ESAG!J16) -> 0 | J16: =SUM(REITORIA!K16,FAED!K16,CEART!K16,CERES!K16,CEAD!K16,CESFI!K16,CEFID!K16,MUSEU!K16,ESAG!K16) -> 0 | K16: =H16*0.25-0.5-L16 -> 37.75 | L16: =SUM(REITORIA!N16,FAED!N16,CEART!N16,CERES!N16,CEAD!N16,CESFI!N16,CEFID!N16,MUSEU!N16,ESAG!N16) -> 0 | M16: =H16+L16-J16 -> 153 | N16: 53.73 | O16: =N16*H16 -> 8220.69 | P16: =L16*N16 -> 0 | Q16: =N16*J16 -> 0
... B59: 56 | D59: Serviço de manutenção nível III (reteste) extintor espuma mecânica 10 L | E59: APAG | F59: SERVIÇO | G59: 39.17 | H59: 10 | I59: =SUM(REITORIA!J59,FAED!J59,CEART!J59,CERES!J59,CEAD!J59,CESFI!J59,CEFID!J59,MUSEU!J59,ESAG!J59) -> 0 | J59: =SUM(REITORIA!K59,FAED!K59,CEART!K59,CERES!K59,CEAD!K59,CESFI!K59,CEFID!K59,MUSEU!K59,ESAG!K59) -> 0 | K59: =H59*0.25-0.5-L59 -> 2 | L59: =SUM(REITORIA!N59,FAED!N59,CEART!N59,CERES!N59,CEAD!N59,CESFI!N59,CEFID!N59,MUSEU!N59,ESAG!N59) -> 0 | M59: =H59+L59-J59 -> 10 | N59: 63.79 | O59: =N59*H59 -> 637.9 | P59: =L59*N59 -> 0 | Q59: =N59*J59 -> 0
A60: 2 | B60: 57 | C60: APAG PRODUTOS E SERVIÇOS LTDA 02.591.012/0001-63 | D60: Bateria para centrais de alarme de incêndio endereçável 12V/1,3AH. Fornecimento e instalação. | E60: UNIPOWER | F60: PEÇA | G60: 30.28 | H60: 14 | I60: =SUM(CCT!J4,CEPLAN!J4) -> 0 | J60: =SUM(CCT!K4,CEPLAN!K4) -> 0 | K60: =H60*0.25-0.5-L60 -> 3 | L60: =SUM(CCT!N4,CEPLAN!N4) -> 0 | M60: =H60+L60-J60 -> 14 | N60: 102.82 | O60: =N60*H60 -> 1439.48 | P60: =L60*N60 -> 0 | Q60: =N60*J60 -> 0
B61: 58 | D61: Central de alarme de incêndio endereçável 125 endereços IP20 24V com bateria. Fornecimento e instalação. | E61: INTELBRAS | F61: PEÇA | G61: 30.28 | H61: 1 | I61: =SUM(CCT!J5,CEPLAN!J5) -> 0 | J61: =SUM(CCT!K5,CEPLAN!K5) -> 0 | K61: =H61*0.25-0.5-L61 -> -0.25 | L61: =SUM(CCT!N5,CEPLAN!N5) -> 0 | M61: =H61+L61-J61 -> 1 | N61: 1745.6 | O61: =N61*H61 -> 1745.6 | P61: =L61*N61 -> 0 | Q61: =N61*J61 -> 0
B62: 59 | D62: Detector óptico de fumaça endereçável 24V. Fornecimento e instalação. | E62: INTELBRAS | F62: PEÇA | G62: 30.28 | H62: 10 | I62: =SUM(CCT!J6,CEPLAN!J6) -> 0 | J62: =SUM(CCT!K6,CEPLAN!K6) -> 0 | K62: =H62*0.25-0.5-L62 -> 2 | L62: =SUM(CCT!N6,CEPLAN!N6) -> 0 | M62: =H62+L62-J62 -> 10 | N62: 157.82 | O62: =N62*H62 -> 1578.2 | P62: =L62*N62 -> 0 | Q62: =N62*J62 -> 0
B63: 60 | D63: Sirene escolar potência 400 metros - 220v | E63: DALMEC | F63: PEÇA | G63: 30.28 | H63: 1 | I63: =SUM(CCT!J7,CEPLAN!J7) -> 0 | J63: =SUM(CCT!K7,CEPLAN!K7) -> 0 | K63: =H63*0.25-0.5-L63 -> -0.25 | L63: =SUM(CCT!N7,CEPLAN!N7) -> 0 | M63: =H63+L63-J63 -> 1 | N63: 478.24 | O63: =N63*H63 -> 478.24 | P63: =L63*N63 -> 0 | Q63: =N63*J63 -> 0
B64: 61 | D64: Carga em extintor CO2 06 kg. Fornecimento e instalação. | E64: APAG | F64: PEÇA | G64: 30.04 | H64: 58 | I64: =SUM(CCT!J8,CEPLAN!J8) -> 0 | J64: =SUM(CCT!K8,CEPLAN!K8) -> 0 | K64: =H64*0.25-0.5-L64 -> 14 | L64: =SUM(CCT!N8,CEPLAN!N8) -> 0 | M64: =H64+L64-J64 -> 58 | N64: 95.64 | O64: =N64*H64 -> 5547.12 | P64: =L64*N64 -> 0 | Q64: =N64*J64 -> 0
B65: 62 | D65: Carga em extintor pó químico 04 kg BC. Fornecimento e instalação. | E65: APAG | F65: PEÇA | G65: 30.04 | H65: 12 | I65: =SUM(CCT!J9,CEPLAN!J9) -> 0 | J65: =SUM(CCT!K9,CEPLAN!K9) -> 0 | K65: =H65*0.25-0.5-L65 -> 2.5 | L65: =SUM(CCT!N9,CEPLAN!N9) -> 0 | M65: =H65+L65-J65 -> 12 | N65: 43.83 | O65: =N65*H65 -> 525.96 | P65: =L65*N65 -> 0 | Q65: =N65*J65 -> 0
B66: 63 | D66: Carga em extintor pó químico 06 kg ABC. Fornecimento e instalação. | E66: APAG | F66: PEÇA | G66: 30.04 | H66: 6 | I66: =SUM(CCT!J10,CEPLAN!J10) -> 0 | J66: =SUM(CCT!K10,CEPLAN!K10) -> 0 | K66: =H66*0.25-0.5-L66 -> 1 | L66: =SUM(CCT!N10,CEPLAN!N10) -> 0 | M66: =H66+L66-J66 -> 6 | N66: 81.3 | O66: =N66*H66 -> 487.8 | P66: =L66*N66 -> 0 | Q66: =N66*J66 -> 0
B67: 64 | D67: Carga em extintor pó químico 06 kg BC. Fornecimento e instalação. | E67: APAG | F67: PEÇA | G67: 30.04 | H67: 44 | I67: =SUM(CCT!J11,CEPLAN!J11) -> 0 | J67: =SUM(CCT!K11,CEPLAN!K11) -> 0 | K67: =H67*0.25-0.5-L67 -> 10.5 | L67: =SUM(CCT!N11,CEPLAN!N11) -> 0 | M67: =H67+L67-J67 -> 44 | N67: 55.71 | O67: =N67*H67 -> 2451.24 | P67: =L67*N67 -> 0 | Q67: =N67*J67 -> 0
B68: 65 | D68: Carga em extintor água 10 L . Fornecimento e instalação. | E68: APAG | F68: PEÇA | G68: 30.04 | H68: 20 | I68: =SUM(CCT!J12,CEPLAN!J12) -> 0 | J68: =SUM(CCT!K12,CEPLAN!K12) -> 0 | K68: =H68*0.25-0.5-L68 -> 4.5 | L68: =SUM(CCT!N12,CEPLAN!N12) -> 0 | M68: =H68+L68-J68 -> 20 | N68: 30.04 | O68: =N68*H68 -> 600.8 | P68: =L68*N68 -> 0 | Q68: =N68*J68 -> 0
B69: 66 | D69: Extintor espuma mecânica 10 L. Fornecimento e instalação | E69: PROTEGE | F69: PEÇA | G69: 30.28 | H69: 20 | I69: =SUM(CCT!J13,CEPLAN!J13) -> 0 | J69: =SUM(CCT!K13,CEPLAN!K13) -> 0 | K69: =H69*0.25-0.5-L69 -> 4.5 | L69: =SUM(CCT!N13,CEPLAN!N13) -> 0 | M69: =H69+L69-J69 -> 20 | N69: 307.67 | O69: =N69*H69 -> 6153.4 | P69: =L69*N69 -> 0 | Q69: =N69*J69 -> 0
B70: 67 | D70: Extintor PQS 4KG ABC . Fornecimento e instalação. | E70: EXTANG | F70: PEÇA | G70: 30.28 | H70: 10 | I70: =SUM(CCT!J14,CEPLAN!J14) -> 0 | J70: =SUM(CCT!K14,CEPLAN!K14) -> 0 | K70: =H70*0.25-0.5-L70 -> 2 | L70: =SUM(CCT!N14,CEPLAN!N14) -> 0 | M70: =H70+L70-J70 -> 10 | N70: 139.48 | O70: =N70*H70 -> 1394.8 | P70: =L70*N70 -> 0 | Q70: =N70*J70 -> 0
B71: 68 | D71: Extintor água 10 L. Fornecimento e instalação | E71: EXTANG | F71: PEÇA | G71: 30.28 | H71: 10 | I71: =SUM(CCT!J15,CEPLAN!J15) -> 0 | J71: =SUM(CCT!K15,CEPLAN!K15) -> 0 | K71: =H71*0.25-0.5-L71 -> 2 | L71: =SUM(CCT!N15,CEPLAN!N15) -> 0 | M71: =H71+L71-J71 -> 10 | N71: 129.12 | O71: =N71*H71 -> 1291.2 | P71: =L71*N71 -> 0 | Q71: =N71*J71 -> 0
B72: 69 | D72: Suporte de chão reforçado modelo tripé P4/P6. Fornecimento e instalação. | E72: APAG | F72: PEÇA | G72: 30.28 | H72: 20 | I72: =SUM(CCT!J16,CEPLAN!J16) -> 0 | J72: =SUM(CCT!K16,CEPLAN!K16) -> 0 | K72: =H72*0.25-0.5-L72 -> 4.5 | L72: =SUM(CCT!N16,CEPLAN!N16) -> 0 | M72: =H72+L72-J72 -> 20 | N72: 35.86 | O72: =N72*H72 -> 717.2 | P72: =L72*N72 -> 0 | Q72: =N72*J72 -> 0
... B81: 78 | D81: Serviço de manutenção nível III (reteste) extintor CO2 06 Kg. | E81: APAG | F81: SERVIÇO | G81: 39.17 | H81: 10 | I81: =SUM(CCT!J25,CEPLAN!J25) -> 0 | J81: =SUM(CCT!K25,CEPLAN!K25) -> 0 | K81: =H81*0.25-0.5-L81 -> 2 | L81: =SUM(CCT!N25,CEPLAN!N25) -> 0 | M81: =H81+L81-J81 -> 10 | N81: 57.63 | O81: =N81*H81 -> 576.3 | P81: =L81*N81 -> 0 | Q81: =N81*J81 -> 0
A82: 3 | B82: 79 | C82: APAG PRODUTOS E SERVIÇOS LTDA 02.591.012/0001-63 | D82: Bateria para centrais de alarme de incêndio endereçável 12V/1,3AH. Fornecimento e instalação. | E82: UNIPOWER | F82: PEÇA | G82: 30.28 | H82: 4 | I82: =CEAVI!J4 -> 0 | J82: =CEAVI!K4 -> 0 | K82: =H82*0.25-0.5-L82 -> 0.5 | L82: =CEAVI!N4 -> 0 | M82: =H82+L82-J82 -> 4 | N82: 117.04 | O82: =N82*H82 -> 468.16 | P82: =L82*N82 -> 0 | Q82: =N82*J82 -> 0
B83: 80 | D83: Carga em extintor CO2 04 kg. Fornecimento e instalação. | E83: APAG | F83: PEÇA | G83: 30.04 | H83: 18 | I83: =CEAVI!J5 -> 0 | J83: =CEAVI!K5 -> 0 | K83: =H83*0.25-0.5-L83 -> 4 | L83: =CEAVI!N5 -> 0 | M83: =H83+L83-J83 -> 18 | N83: 71.67 | O83: =N83*H83 -> 1290.06 | P83: =L83*N83 -> 0 | Q83: =N83*J83 -> 0
B84: 81 | D84: Carga em extintor pó químico 04 kg ABC. Fornecimento e instalação. | E84: APAG | F84: PEÇA | G84: 30.04 | H84: 65 | I84: =CEAVI!J6 -> 0 | J84: =CEAVI!K6 -> 0 | K84: =H84*0.25-0.5-L84 -> 15.75 | L84: =CEAVI!N6 -> 0 | M84: =H84+L84-J84 -> 65 | N84: 52.62 | O84: =N84*H84 -> 3420.3 | P84: =L84*N84 -> 0 | Q84: =N84*J84 -> 0
B85: 82 | D85: Carga em extintor pó químico 04 kg BC. Fornecimento e instalação. | E85: APAG | F85: PEÇA | G85: 30.04 | H85: 65 | I85: =CEAVI!J7 -> 0 | J85: =CEAVI!K7 -> 0 | K85: =H85*0.25-0.5-L85 -> 15.75 | L85: =CEAVI!N7 -> 0 | M85: =H85+L85-J85 -> 65 | N85: 49.9 | O85: =N85*H85 -> 3243.5 | P85: =L85*N85 -> 0 | Q85: =N85*J85 -> 0
B86: 83 | D86: Carga em extintor água 10 L . Fornecimento e instalação. | E86: APAG | F86: PEÇA | G86: 30.04 | H86: 4 | I86: =CEAVI!J8 -> 0 | J86: =CEAVI!K8 -> 0 | K86: =H86*0.25-0.5-L86 -> 0.5 | L86: =CEAVI!N8 -> 0 | M86: =H86+L86-J86 -> 4 | N86: 33.56 | O86: =N86*H86 -> 134.24 | P86: =L86*N86 -> 0 | Q86: =N86*J86 -> 0
B87: 84 | D87: Carga em extintor espuma mecânica 10 L. Fornecimento e instalação | E87: APAG | F87: PEÇA | G87: 30.04 | H87: 4 | I87: =CEAVI!J9 -> 0 | J87: =CEAVI!K9 -> 0 | K87: =H87*0.25-0.5-L87 -> 0.5 | L87: =CEAVI!N9 -> 0 | M87: =H87+L87-J87 -> 4 | N87: 58.97 | O87: =N87*H87 -> 235.88 | P87: =L87*N87 -> 0 | Q87: =N87*J87 -> 0
B88: 85 | D88: Extintor água 10 L. Fornecimento e instalação | E88: EXTANG | F88: PEÇA | G88: 30.28 | H88: 1 | I88: =CEAVI!J10 -> 0 | J88: =CEAVI!K10 -> 0 | K88: =H88*0.25-0.5-L88 -> -0.25 | L88: =CEAVI!N10 -> 0 | M88: =H88+L88-J88 -> 1 | N88: 146.98 | O88: =N88*H88 -> 146.98 | P88: =L88*N88 -> 0 | Q88: =N88*J88 -> 0
B89: 86 | D89: Serviço de teste do sistema de alarme - Preço por bloco. Emissão de laudo e documento de responsabilidade técnica. | E89: APAG | F89: SERVIÇO | G89: 39.17 | H89: 2 | I89: =CEAVI!J11 -> 0 | J89: =CEAVI!K11 -> 0 | K89: =H89*0.25-0.5-L89 -> 0 | L89: =CEAVI!N11 -> 0 | M89: =H89+L89-J89 -> 2 | N89: 1356.39 | O89: =N89*H89 -> 2712.78 | P89: =L89*N89 -> 0 | Q89: =N89*J89 -> 0
B90: 87 | D90: Serviço de teste do sistema de balizamento de saída - Preço por bloco. Emissão de laudo e documento de responsabilidade técnica. | E90: APAG | F90: SERVIÇO | G90: 39.17 | H90: 2 | I90: =CEAVI!J12 -> 0 | J90: =CEAVI!K12 -> 0 | K90: =H90*0.25-0.5-L90 -> 0 | L90: =CEAVI!N12 -> 0 | M90: =H90+L90-J90 -> 2 | N90: 1712.05 | O90: =N90*H90 -> 3424.1 | P90: =L90*N90 -> 0 | Q90: =N90*J90 -> 0
...

Sheet REITORIA
A1: SRP PE 1070/2026 SGPE 15960/2026 | D1: OBJETO: CONTRATAÇÃO DE EMPRESA PARA MANUTENÇÃO DE EXTINTORES E AQUISIÇÃO DE MATERIAIS E EQUIPAMENTOS DE SEGURANÇA E COMBATE A INCÊNDIO PARA A UDESC | I1: VIGÊNCIA DA ATA: 22/10/2026 A 22/10/2027 | S1: AF nºxxx/2026 Qtde. DT | T1: AF nºxxx/2026 Qtde. DT | U1: AF nºxxx/2026 Qtde. DT | V1: AF nºxxx/2026 Qtde. DT | W1: AF nºxxx/2026 Qtde. DT | X1: AF nºxxx/2026 Qtde. DT | Y1: AF nºxxx/2026 Qtde. DT | Z1: AF nºxxx/2026 Qtde. DT | AA1: AF nºxxx/2026 Qtde. DT | AB1: AF nºxxx/2026 Qtde. DT | AC1: AF nºxxx/2026 Qtde. DT | AD1: AF nºxxx/2026 Qtde. DT | AE1: AF nºxxx/2026 Qtde. DT | AF1: AF nºxxx/2026 Qtde. DT | AG1: AF nºxxx/2026 Qtde. DT
A2: CENTRO PARTICIPANTE: REITORIA
A3: Lote | B3: Item | C3: Empresa | D3: Descrição | E3: Marca | F3: Unidade de Compra | G3: Detalhamento | H3: Preço Unitário | I3: Quantidade Registrada | J3: Qtdade utilizada da ata | K3: Qtdade utilizada total | L3: Qtdade Receb./Cedida | M3: Qtdade disponível para aditivar | N3: Qtdade aditivada própria | O3: Qtdade aditivos recebidos | P3: Qtdade aditivos cedidos | Q3: Saldo / Automático | R3: ALERTA | S3: ...../...../2026 | T3: ...../...../2026 | U3: ...../...../2026 | V3: ...../...../2026 | W3: ...../...../2026 | X3: ...../...../2026 | Y3: ...../...../2026 | Z3: ...../...../2026 | AA3: ...../...../2026 | AB3: ...../...../2026 | AC3: ...../...../2026 | AD3: ...../...../2026 | AE3: ...../...../2026 | AF3: ...../...../2026 | AG3: ...../...../2026
A4: 1 | B4: 1 | C4: APAG PRODUTOS E SERVIÇOS LTDA 02.591.012/0001-63 | D4: Bateria para centrais de alarme de incêndio endereçável 12V/1,3AH. Fornecimento e instalação. | E4: UNIPOWER | F4: PEÇA | G4: 30.28 | H4: 100.45 | J4: =IF(SUM(S4:AG4)>I4+L4,I4+L4,SUM(S4:AG4)) -> 0 | K4: =(SUM(S4:AG4)) -> 0 | M4: =ROUND(IF(I4*0.25-0.5<0,0,I4*0.25-0.5),0)-P4-N4 -> 0 | Q4: =I4-(SUM(S4:AG4))+L4 -> 0 | R4: =IF(Q4<0,"ATENÇÃO","OK") -> OK
B5: 2 | D5: Central de alarme de incêndio endereçável 125 endereços IP20 24V com bateria. Fornecimento e instalação. | E5: INTELBRAS | F5: PEÇA | G5: 30.28 | H5: 1705.39 | J5: =IF(SUM(S5:AG5)>I5+L5,I5+L5,SUM(S5:AG5)) -> 0 | K5: =(SUM(S5:AG5)) -> 0 | M5: =ROUND(IF(I5*0.25-0.5<0,0,I5*0.25-0.5),0)-P5-N5 -> 0 | Q5: =I5-(SUM(S5:AG5))+L5 -> 0 | R5: =IF(Q5<0,"ATENÇÃO","OK") -> OK
B6: 3 | D6: Detector óptico de fumaça endereçável compact. Fornecimento e instalação. | E6: INTELBRAS | F6: PEÇA | G6: 30.28 | H6: 136.27 | I6: 20 | J6: =IF(SUM(S6:AG6)>I6+L6,I6+L6,SUM(S6:AG6)) -> 0 | K6: =(SUM(S6:AG6)) -> 0 | M6: =ROUND(IF(I6*0.25-0.5<0,0,I6*0.25-0.5),0)-P6-N6 -> 5 | Q6: =I6-(SUM(S6:AG6))+L6 -> 20 | R6: =IF(Q6<0,"ATENÇÃO","OK") -> OK
B7: 4 | D7: Detector óptico de fumaça endereçável 24V. Fornecimento e instalação. | E7: INTELBRAS | F7: PEÇA | G7: 30.28 | H7: 154.18 | J7: =IF(SUM(S7:AG7)>I7+L7,I7+L7,SUM(S7:AG7)) -> 0 | K7: =(SUM(S7:AG7)) -> 0 | M7: =ROUND(IF(I7*0.25-0.5<0,0,I7*0.25-0.5),0)-P7-N7 -> 0 | Q7: =I7-(SUM(S7:AG7))+L7 -> 0 | R7: =IF(Q7<0,"ATENÇÃO","OK") -> OK
B8: 5 | D8: Detector termovelocimétrico 24VCC endereçável com módulo (T). Fornecimento e instalação. | E8: INTELBRAS | F8: PEÇA | G8: 30.28 | H8: 159.63 | J8: =IF(SUM(S8:AG8)>I8+L8,I8+L8,SUM(S8:AG8)) -> 0 | K8: =(SUM(S8:AG8)) -> 0 | M8: =ROUND(IF(I8*0.25-0.5<0,0,I8*0.25-0.5),0)-P8-N8 -> 0 | Q8: =I8-(SUM(S8:AG8))+L8 -> 0 | R8: =IF(Q8<0,"ATENÇÃO","OK") -> OK
B9: 6 | D9: Fonte auxiliar IP20 24V endereçável. Fornecimento e instalação. | E9: INTELBRAS | F9: PEÇA | G9: 30.28 | H9: 692.28 | J9: =IF(SUM(S9:AG9)>I9+L9,I9+L9,SUM(S9:AG9)) -> 0 | K9: =(SUM(S9:AG9)) -> 0 | M9: =ROUND(IF(I9*0.25-0.5<0,0,I9*0.25-0.5),0)-P9-N9 -> 0 | Q9: =I9-(SUM(S9:AG9))+L9 -> 0 | R9: =IF(Q9<0,"ATENÇÃO","OK") -> OK
B10: 7 | D10: Fonte de alimentação IP20 24V endereçável. Fornecimento e instalação. | E10: INTELBRAS | F10: PEÇA | G10: 30.28 | H10: 700.84 | J10: =IF(SUM(S10:AG10)>I10+L10,I10+L10,SUM(S10:AG10)) -> 0 | K10: =(SUM(S10:AG10)) -> 0 | M10: =ROUND(IF(I10*0.25-0.5<0,0,I10*0.25-0.5),0)-P10-N10 -> 0 | Q10: =I10-(SUM(S10:AG10))+L10 -> 0 | R10: =IF(Q10<0,"ATENÇÃO","OK") -> OK
B11: 8 | D11: Caixa de alumínio para extintor PQS 6 kg. Fornecimento e instalação. | E11: APAG | F11: PEÇA | G11: 30.28 | H11: 193.12 | J11: =IF(SUM(S11:AG11)>I11+L11,I11+L11,SUM(S11:AG11)) -> 0 | K11: =(SUM(S11:AG11)) -> 0 | M11: =ROUND(IF(I11*0.25-0.5<0,0,I11*0.25-0.5),0)-P11-N11 -> 0 | Q11: =I11-(SUM(S11:AG11))+L11 -> 0 | R11: =IF(Q11<0,"ATENÇÃO","OK") -> OK
B12: 9 | D12: Carga em extintor CO2 04 kg. Fornecimento e instalação. | E12: APAG | F12: PEÇA | G12: 30.04 | H12: 61.51 | I12: 10 | J12: =IF(SUM(S12:AG12)>I12+L12,I12+L12,SUM(S12:AG12)) -> 0 | K12: =(SUM(S12:AG12)) -> 0 | M12: =ROUND(IF(I12*0.25-0.5<0,0,I12*0.25-0.5),0)-P12-N12 -> 2 | Q12: =I12-(SUM(S12:AG12))+L12 -> 10 | R12: =IF(Q12<0,"ATENÇÃO","OK") -> OK
B13: 10 | D13: Carga em extintor CO2 06 kg. Fornecimento e instalação. | E13: APAG | F13: PEÇA | G13: 30.04 | H13: 93.44 | I13: 5 | J13: =IF(SUM(S13:AG13)>I13+L13,I13+L13,SUM(S13:AG13)) -> 0 | K13: =(SUM(S13:AG13)) -> 0 | M13: =ROUND(IF(I13*0.25-0.5<0,0,I13*0.25-0.5),0)-P13-N13 -> 1 | Q13: =I13-(SUM(S13:AG13))+L13 -> 5 | R13: =IF(Q13<0,"ATENÇÃO","OK") -> OK
B14: 11 | D14: Carga em extintor pó químico 04 kg ABC. Fornecimento e instalação. | E14: APAG | F14: PEÇA | G14: 30.04 | H14: 45.16 | I14: 50 | J14: =IF(SUM(S14:AG14)>I14+L14,I14+L14,SUM(S14:AG14)) -> 0 | K14: =(SUM(S14:AG14)) -> 0 | M14: =ROUND(IF(I14*0.25-0.5<0,0,I14*0.25-0.5),0)-P14-N14 -> 12 | Q14: =I14-(SUM(S14:AG14))+L14 -> 50 | R14: =IF(Q14<0,"ATENÇÃO","OK") -> OK
B15: 12 | D15: Carga em extintor pó químico 04 kg BC. Fornecimento e instalação. | E15: APAG | F15: PEÇA | G15: 30.04 | H15: 42.82 | I15: 50 | J15: =IF(SUM(S15:AG15)>I15+L15,I15+L15,SUM(S15:AG15)) -> 0 | K15: =(SUM(S15:AG15)) -> 0 | M15: =ROUND(IF(I15*0.25-0.5<0,0,I15*0.25-0.5),0)-P15-N15 -> 12 | Q15: =I15-(SUM(S15:AG15))+L15 -> 50 | R15: =IF(Q15<0,"ATENÇÃO","OK") -> OK
B16: 13 | D16: Carga em extintor pó químico 06 kg BC. Fornecimento e instalação. | E16: APAG | F16: PEÇA | G16: 30.04 | H16: 53.73 | I16: 15 | J16: =IF(SUM(S16:AG16)>I16+L16,I16+L16,SUM(S16:AG16)) -> 0 | K16: =(SUM(S16:AG16)) -> 0 | M16: =ROUND(IF(I16*0.25-0.5<0,0,I16*0.25-0.5),0)-P16-N16 -> 3 | Q16: =I16-(SUM(S16:AG16))+L16 -> 15 | R16: =IF(Q16<0,"ATENÇÃO","OK") -> OK
B17: 14 | D17: Carga em extintor água 10 L . Fornecimento e instalação. | E17: APAG | F17: PEÇA | G17: 30.04 | H17: 28.81 | I17: 25 | J17: =IF(SUM(S17:AG17)>I17+L17,I17+L17,SUM(S17:AG17)) -> 0 | K17: =(SUM(S17:AG17)) -> 0 | M17: =ROUND(IF(I17*0.25-0.5<0,0,I17*0.25-0.5),0)-P17-N17 -> 6 | Q17: =I17-(SUM(S17:AG17))+L17 -> 25 | R17: =IF(Q17<0,"ATENÇÃO","OK") -> OK
B18: 15 | D18: Extintor PQS 4KG ABC . Fornecimento e instalação. | E18: EXTANG | F18: PEÇA | G18: 30.28 | H18: 136.27 | J18: =IF(SUM(S18:AG18)>I18+L18,I18+L18,SUM(S18:AG18)) -> 0 | K18: =(SUM(S18:AG18)) -> 0 | M18: =ROUND(IF(I18*0.25-0.5<0,0,I18*0.25-0.5),0)-P18-N18 -> 0 | Q18: =I18-(SUM(S18:AG18))+L18 -> 0 | R18: =IF(Q18<0,"ATENÇÃO","OK") -> OK
B19: 16 | D19: Suporte de chão reforçado modelo tripé P4/P6. Fornecimento e instalação. | E19: APAG | F19: PEÇA | G19: 30.28 | H19: 35.04 | I19: 5 | J19: =IF(SUM(S19:AG19)>I19+L19,I19+L19,SUM(S19:AG19)) -> 0 | K19: =(SUM(S19:AG19)) -> 0 | M19: =ROUND(IF(I19*0.25-0.5<0,0,I19*0.25-0.5),0)-P19-N19 -> 1 | Q19: =I19-(SUM(S19:AG19))+L19 -> 5 | R19: =IF(Q19<0,"ATENÇÃO","OK") -> OK
B20: 17 | D20: Suporte de chão reforçado modelo tripé P8/P12/AP/CO2. Fornecimento e instalação. | E20: APAG | F20: PEÇA | G20: 30.28 | H20: 36.59 | J20: =IF(SUM(S20:AG20)>I20+L20,I20+L20,SUM(S20:AG20)) -> 0 | K20: =(SUM(S20:AG20)) -> 0 | M20: =ROUND(IF(I20*0.25-0.5<0,0,I20*0.25-0.5),0)-P20-N20 -> 0 | Q20: =I20-(SUM(S20:AG20))+L20 -> 0 | R20: =IF(Q20<0,"ATENÇÃO","OK") -> OK
B21: 18 | D21: Suporte de parede para extintor. Fornecimento e instalação. | E21: APAG | F21: PEÇA | G21: 30.28 | H21: 15.57 | I21: 10 | J21: =IF(SUM(S21:AG21)>I21+L21,I21+L21,SUM(S21:AG21)) -> 0 | K21: =(SUM(S21:AG21)) -> 0 | M21: =ROUND(IF(I21*0.25-0.5<0,0,I21*0.25-0.5),0)-P21-N21 -> 2 | Q21: =I21-(SUM(S21:AG21))+L21 -> 10 | R21: =IF(Q21<0,"ATENÇÃO","OK") -> OK
B22: 19 | D22: Mangueira de incêndio predial tipo 2 - 1.1/2 pol. x 15m. Fornecimento e instalação. | E22: SEGURIMAX | F22: PEÇA | G22: 30.28 | H22: 325.5 | I22: 25 | J22: =IF(SUM(S22:AG22)>I22+L22,I22+L22,SUM(S22:AG22)) -> 0 | K22: =(SUM(S22:AG22)) -> 0 | M22: =ROUND(IF(I22*0.25-0.5<0,0,I22*0.25-0.5),0)-P22-N22 -> 6 | Q22: =I22-(SUM(S22:AG22))+L22 -> 25 | R22: =IF(Q22<0,"ATENÇÃO","OK") -> OK
B23: 20 | D23: Mangueira extintor CO2 4/6 kg. Fornecimento e instalação. | E23: SEGURIMAX | F23: PEÇA | G23: 30.28 | H23: 49.05 | I23: 10 | J23: =IF(SUM(S23:AG23)>I23+L23,I23+L23,SUM(S23:AG23)) -> 0 | K23: =(SUM(S23:AG23)) -> 0 | M23: =ROUND(IF(I23*0.25-0.5<0,0,I23*0.25-0.5),0)-P23-N23 -> 2 | Q23: =I23-(SUM(S23:AG23))+L23 -> 10 | R23: =IF(Q23<0,"ATENÇÃO","OK") -> OK
B24: 21 | D24: Mangueira extintor pó químico 4/6 kg. Fornecimento e instalação. | E24: MARAGNA | F24: PEÇA | G24: 30.28 | H24: 21.8 | I24: 10 | J24: =IF(SUM(S24:AG24)>I24+L24,I24+L24,SUM(S24:AG24)) -> 0 | K24: =(SUM(S24:AG24)) -> 0 | M24: =ROUND(IF(I24*0.25-0.5<0,0,I24*0.25-0.5),0)-P24-N24 -> 2 | Q24: =I24-(SUM(S24:AG24))+L24 -> 10 | R24: =IF(Q24<0,"ATENÇÃO","OK") -> OK
B25: 22 | D25: Difusor extintor CO2 4/6 kg. Fornecimento e instalação. | E25: MARAGNA | F25: PEÇA | G25: 30.28 | H25: 9.34 | I25: 10 | J25: =IF(SUM(S25:AG25)>I25+L25,I25+L25,SUM(S25:AG25)) -> 0 | K25: =(SUM(S25:AG25)) -> 0 | M25: =ROUND(IF(I25*0.25-0.5<0,0,I25*0.25-0.5),0)-P25-N25 -> 2 | Q25: =I25-(SUM(S25:AG25))+L25 -> 10 | R25: =IF(Q25<0,"ATENÇÃO","OK") -> OK
B26: 23 | D26: Manômetro extintor pó químico. Fornecimento e instalação. | E26: MERCOSUL | F26: PEÇA | G26: 30.28 | H26: 4.67 | I26: 10 | J26: =IF(SUM(S26:AG26)>I26+L26,I26+L26,SUM(S26:AG26)) -> 0 | K26: =(SUM(S26:AG26)) -> 0 | M26: =ROUND(IF(I26*0.25-0.5<0,0,I26*0.25-0.5),0)-P26-N26 -> 2 | Q26: =I26-(SUM(S26:AG26))+L26 -> 10 | R26: =IF(Q26<0,"ATENÇÃO","OK") -> OK
B27: 24 | D27: Válvula extintor CO2 4/6 kg. Fornecimento e instalação. | E27: MERCOSUL | F27: PEÇA | G27: 30.28 | H27: 77.87 | I27: 5 | J27: =IF(SUM(S27:AG27)>I27+L27,I27+L27,SUM(S27:AG27)) -> 0 | K27: =(SUM(S27:AG27)) -> 0 | M27: =ROUND(IF(I27*0.25-0.5<0,0,I27*0.25-0.5),0)-P27-N27 -> 1 | Q27: =I27-(SUM(S27:AG27))+L27 -> 5 | R27: =IF(Q27<0,"ATENÇÃO","OK") -> OK
B28: 25 | D28: Válvula extintor pó químico 4/6 kg. Fornecimento e instalação. | E28: MERCOSUL | F28: PEÇA | G28: 30.28 | H28: 32.7 | I28: 5 | J28: =IF(SUM(S28:AG28)>I28+L28,I28+L28,SUM(S28:AG28)) -> 0 | K28: =(SUM(S28:AG28)) -> 0 | M28: =ROUND(IF(I28*0.25-0.5<0,0,I28*0.25-0.5),0)-P28-N28 -> 1 | Q28: =I28-(SUM(S28:AG28))+L28 -> 5 | R28: =IF(Q28<0,"ATENÇÃO","OK") -> OK
B29: 26 | D29: Bloco de iluminação de emergência autônoma LED 2 faróis 3000 lúmens. Fornecimento e instalação. | E29: SEGURIMAX | F29: PEÇA | G29: 30.26 | H29: 203.24 | J29: =IF(SUM(S29:AG29)>I29+L29,I29+L29,SUM(S29:AG29)) -> 0 | K29: =(SUM(S29:AG29)) -> 0 | M29: =ROUND(IF(I29*0.25-0.5<0,0,I29*0.25-0.5),0)-P29-N29 -> 0 | Q29: =I29-(SUM(S29:AG29))+L29 -> 0 | R29: =IF(Q29<0,"ATENÇÃO","OK") -> OK
B30: 27 | D30: Bloco de iluminação de emergência autônoma LED 2 faróis 1200 lúmens. Fornecimento e instalação. | E30: LUXPRYME | F30: PEÇA | G30: 30.26 | H30: 207.13 | I30: 10 | J30: =IF(SUM(S30:AG30)>I30+L30,I30+L30,SUM(S30:AG30)) -> 0 | K30: =(SUM(S30:AG30)) -> 0 | M30: =ROUND(IF(I30*0.25-0.5<0,0,I30*0.25-0.5),0)-P30-N30 -> 2 | Q30: =I30-(SUM(S30:AG30))+L30 -> 10 | R30: =IF(Q30<0,"ATENÇÃO","OK") -> OK
B31: 28 | D31: Bloco de iluminação de emergência coletiva LED 2 faróis 1200 lúmens. Fornecimento e instalação. | E31: LUXPRYME | F31: PEÇA | G31: 30.26 | H31: 70.08 | J31: =IF(SUM(S31:AG31)>I31+L31,I31+L31,SUM(S31:AG31)) -> 0 | K31: =(SUM(S31:AG31)) -> 0 | M31: =ROUND(IF(I31*0.25-0.5<0,0,I31*0.25-0.5),0)-P31-N31 -> 0 | Q31: =I31-(SUM(S31:AG31))+L31 -> 0 | R31: =IF(Q31<0,"ATENÇÃO","OK") -> OK
B32: 29 | D32: Central de iluminação de emergência 24V sem bateria. Fornecimento e instalação. | E32: LUXPRYME | F32: PEÇA | G32: 30.26 | H32: 1479.56 | J32: =IF(SUM(S60:AG60)>I32+L32,I32+L32,SUM(S60:AG60)) -> 0 | K32: =(SUM(S60:AG60)) -> 0 | M32: =ROUND(IF(I32*0.25-0.5<0,0,I32*0.25-0.5),0)-P32-N32 -> 0 | Q32: =I32-(SUM(S60:AG60))+L32 -> 0 | R32: =IF(Q32<0,"ATENÇÃO","OK") -> OK
B33: 30 | D33: Luminária de emergência autônoma 30 LED super Slim. Fornecimento e instalação. | E33: SEGURIMAX | F33: PEÇA | G33: 30.26 | H33: 18.68 | I33: 50 | J33: =IF(SUM(S33:AG33)>I33+L33,I33+L33,SUM(S33:AG33)) -> 0 | K33: =(SUM(S33:AG33)) -> 0 | M33: =ROUND(IF(I33*0.25-0.5<0,0,I33*0.25-0.5),0)-P33-N33 -> 12 | Q33: =I33-(SUM(S33:AG33))+L33 -> 50 | R33: =IF(Q33<0,"ATENÇÃO","OK") -> OK
B34: 31 | D34: Placa fotoluminescente em caso de incêndio não use o elevador de PVC 24 x 12cm. Fornecimento e instalação. | E34: SCALA | F34: PEÇA | G34: 30.44 | H34: 7.24 | I34: 2 | J34: =IF(SUM(S34:AG34)>I34+L34,I34+L34,SUM(S34:AG34)) -> 0 | K34: =(SUM(S34:AG34)) -> 0 | M34: =ROUND(IF(I34*0.25-0.5<0,0,I34*0.25-0.5),0)-P34-N34 -> 0 | Q34: =I34-(SUM(S34:AG34))+L34 -> 2 | R34: =IF(Q34<0,"ATENÇÃO","OK") -> OK
B35: 32 | D35: Placa fotoluminescente rota de fuga pela escada à direita seta para baixo de PVC 30 x 15cm. Fornecimento e instalação. | E35: SCALA | F35: PEÇA | G35: 30.44 | H35: 22.58 | J35: =IF(SUM(S35:AG35)>I35+L35,I35+L35,SUM(S35:AG35)) -> 0 | K35: =(SUM(S35:AG35)) -> 0 | M35: =ROUND(IF(I35*0.25-0.5<0,0,I35*0.25-0.5),0)-P35-N35 -> 0 | Q35: =I35-(SUM(S35:AG35))+L35 -> 0 | R35: =IF(Q35<0,"ATENÇÃO","OK") -> OK
B36: 33 | D36: Placa fotoluminescente rota de fuga pela escada à esquerda seta para baixo de PVC 30 x 15cm. Fornecimento e instalação. | E36: SCALA | F36: PEÇA | G36: 30.44 | H36: 23.36 | J36: =IF(SUM(S36:AG36)>I36+L36,I36+L36,SUM(S36:AG36)) -> 0 | K36: =(SUM(S36:AG36)) -> 0 | M36: =ROUND(IF(I36*0.25-0.5<0,0,I36*0.25-0.5),0)-P36-N36 -> 0 | Q36: =I36-(SUM(S36:AG36))+L36 -> 0 | R36: =IF(Q36<0,"ATENÇÃO","OK") -> OK
B37: 34 | D37: Placa fotoluminescente saída de emergência de PVC 30x15cm. Fornecimento e instalação. | E37: SCALA | F37: PEÇA | G37: 30.44 | H37: 12.22 | I37: 25 | J37: =IF(SUM(S37:AG37)>I37+L37,I37+L37,SUM(S37:AG37)) -> 0 | K37: =(SUM(S37:AG37)) -> 0 | M37: =ROUND(IF(I37*0.25-0.5<0,0,I37*0.25-0.5),0)-P37-N37 -> 6 | Q37: =I37-(SUM(S37:AG37))+L37 -> 25 | R37: =IF(Q37<0,"ATENÇÃO","OK") -> OK
B38: 35 | D38: Placa fotoluminescente saída duas faces de PVC 24 x 12cm. Fornecimento e instalação. | E38: SCALA | F38: PEÇA | G38: 30.44 | H38: 16.82 | J38: =IF(SUM(S38:AG38)>I38+L38,I38+L38,SUM(S38:AG38)) -> 0 | K38: =(SUM(S38:AG38)) -> 0 | M38: =ROUND(IF(I38*0.25-0.5<0,0,I38*0.25-0.5),0)-P38-N38 -> 0 | Q38: =I38-(SUM(S38:AG38))+L38 -> 0 | R38: =IF(Q38<0,"ATENÇÃO","OK") -> OK
B39: 36 | D39: Placa fotoluminescente saída seta para direita de PVC 25x16cm. Fornecimento e instalação. | E39: SCALA | F39: PEÇA | G39: 30.44 | H39: 13.82 | J39: =IF(SUM(S39:AG39)>I39+L39,I39+L39,SUM(S39:AG39)) -> 0 | K39: =(SUM(S39:AG39)) -> 0 | M39: =ROUND(IF(I39*0.25-0.5<0,0,I39*0.25-0.5),0)-P39-N39 -> 0 | Q39: =I39-(SUM(S39:AG39))+L39 -> 0 | R39: =IF(Q39<0,"ATENÇÃO","OK") -> OK
B40: 37 | D40: Placa fotoluminescente saída seta para esquerda de PVC 25x16cm. Fornecimento e instalação. | E40: SCALA | F40: PEÇA | G40: 30.44 | H40: 11.68 | J40: =IF(SUM(S40:AG40)>I40+L40,I40+L40,SUM(S40:AG40)) -> 0 | K40: =(SUM(S40:AG40)) -> 0 | M40: =ROUND(IF(I40*0.25-0.5<0,0,I40*0.25-0.5),0)-P40-N40 -> 0 | Q40: =I40-(SUM(S40:AG40))+L40 -> 0 | R40: =IF(Q40<0,"ATENÇÃO","OK") -> OK
...

Sheet FAED
A1: SRP PE 1070/2026 SGPE 15960/2026 | D1: OBJETO: CONTRATAÇÃO DE EMPRESA PARA MANUTENÇÃO DE EXTINTORES E AQUISIÇÃO DE MATERIAIS E EQUIPAMENTOS DE SEGURANÇA E COMBATE A INCÊNDIO PARA A UDESC | I1: VIGÊNCIA DA ATA: 22/10/2026 A 22/10/2027 | S1: AF nºxxx/2026 Qtde. DT | T1: AF nºxxx/2026 Qtde. DT | U1: AF nºxxx/2026 Qtde. DT | V1: AF nºxxx/2026 Qtde. DT | W1: AF nºxxx/2026 Qtde. DT | X1: AF nºxxx/2026 Qtde. DT | Y1: AF nºxxx/2026 Qtde. DT | Z1: AF nºxxx/2026 Qtde. DT | AA1: AF nºxxx/2026 Qtde. DT | AB1: AF nºxxx/2026 Qtde. DT | AC1: AF nºxxx/2026 Qtde. DT | AD1: AF nºxxx/2026 Qtde. DT | AE1: AF nºxxx/2026 Qtde. DT | AF1: AF nºxxx/2026 Qtde. DT | AG1: AF nºxxx/2026 Qtde. DT
A2: CENTRO PARTICIPANTE: REITORIA
A3: Lote | B3: Item | C3: Empresa | D3: Descrição | E3: Marca | F3: Unidade de Compra | G3: Detalhamento | H3: Preço Unitário | I3: Quantidade Registrada | J3: Qtdade utilizada da ata | K3: Qtdade utilizada total | L3: Qtdade Receb./Cedida | M3: Qtdade disponível para aditivar | N3: Qtdade aditivada própria | O3: Qtdade aditivos recebidos | P3: Qtdade aditivos cedidos | Q3: Saldo / Automático | R3: ALERTA | S3: ...../...../2026 | T3: ...../...../2026 | U3: ...../...../2026 | V3: ...../...../2026 | W3: ...../...../2026 | X3: ...../...../2026 | Y3: ...../...../2026 | Z3: ...../...../2026 | AA3: ...../...../2026 | AB3: ...../...../2026 | AC3: ...../...../2026 | AD3: ...../...../2026 | AE3: ...../...../2026 | AF3: ...../...../2026 | AG3: ...../...../2026
A4: 1 | B4: 1 | C4: APAG PRODUTOS E SERVIÇOS LTDA 02.591.012/0001-63 | D4: Bateria para centrais de alarme de incêndio endereçável 12V/1,3AH. Fornecimento e instalação. | E4: UNIPOWER | F4: PEÇA | G4: 30.28 | H4: 100.45 | J4: =IF(SUM(S4:AG4)>I4+L4,I4+L4,SUM(S4:AG4)) -> 0 | K4: =(SUM(S4:AG4)) -> 0 | M4: =ROUND(IF(I4*0.25-0.5<0,0,I4*0.25-0.5),0)-P4-N4 -> 0 | Q4: =I4-(SUM(S4:AG4))+L4 -> 0 | R4: =IF(Q4<0,"ATENÇÃO","OK") -> OK
B5: 2 | D5: Central de alarme de incêndio endereçável 125 endereços IP20 24V com bateria. Fornecimento e instalação. | E5: INTELBRAS | F5: PEÇA | G5: 30.28 | H5: 1705.39 | J5: =IF(SUM(S5:AG5)>I5+L5,I5+L5,SUM(S5:AG5)) -> 0 | K5: =(SUM(S5:AG5)) -> 0 | M5: =ROUND(IF(I5*0.25-0.5<0,0,I5*0.25-0.5),0)-P5-N5 -> 0 | Q5: =I5-(SUM(S5:AG5))+L5 -> 0 | R5: =IF(Q5<0,"ATENÇÃO","OK") -> OK
B6: 3 | D6: Detector óptico de fumaça endereçável compact. Fornecimento e instalação. | E6: INTELBRAS | F6: PEÇA | G6: 30.28 | H6: 136.27 | J6: =IF(SUM(S6:AG6)>I6+L6,I6+L6,SUM(S6:AG6)) -> 0 | K6: =(SUM(S6:AG6)) -> 0 | M6: =ROUND(IF(I6*0.25-0.5<0,0,I6*0.25-0.5),0)-P6-N6 -> 0 | Q6: =I6-(SUM(S6:AG6))+L6 -> 0 | R6: =IF(Q6<0,"ATENÇÃO","OK") -> OK
B7: 4 | D7: Detector óptico de fumaça endereçável 24V. Fornecimento e instalação. | E7: INTELBRAS | F7: PEÇA | G7: 30.28 | H7: 154.18 | J7: =IF(SUM(S7:AG7)>I7+L7,I7+L7,SUM(S7:AG7)) -> 0 | K7: =(SUM(S7:AG7)) -> 0 | M7: =ROUND(IF(I7*0.25-0.5<0,0,I7*0.25-0.5),0)-P7-N7 -> 0 | Q7: =I7-(SUM(S7:AG7))+L7 -> 0 | R7: =IF(Q7<0,"ATENÇÃO","OK") -> OK
B8: 5 | D8: Detector termovelocimétrico 24VCC endereçável com módulo (T). Fornecimento e instalação. | E8: INTELBRAS | F8: PEÇA | G8: 30.28 | H8: 159.63 | J8: =IF(SUM(S8:AG8)>I8+L8,I8+L8,SUM(S8:AG8)) -> 0 | K8: =(SUM(S8:AG8)) -> 0 | M8: =ROUND(IF(I8*0.25-0.5<0,0,I8*0.25-0.5),0)-P8-N8 -> 0 | Q8: =I8-(SUM(S8:AG8))+L8 -> 0 | R8: =IF(Q8<0,"ATENÇÃO","OK") -> OK
B9: 6 | D9: Fonte auxiliar IP20 24V endereçável. Fornecimento e instalação. | E9: INTELBRAS | F9: PEÇA | G9: 30.28 | H9: 692.28 | J9: =IF(SUM(S9:AG9)>I9+L9,I9+L9,SUM(S9:AG9)) -> 0 | K9: =(SUM(S9:AG9)) -> 0 | M9: =ROUND(IF(I9*0.25-0.5<0,0,I9*0.25-0.5),0)-P9-N9 -> 0 | Q9: =I9-(SUM(S9:AG9))+L9 -> 0 | R9: =IF(Q9<0,"ATENÇÃO","OK") -> OK
B10: 7 | D10: Fonte de alimentação IP20 24V endereçável. Fornecimento e instalação. | E10: INTELBRAS | F10: PEÇA | G10: 30.28 | H10: 700.84 | J10: =IF(SUM(S10:AG10)>I10+L10,I10+L10,SUM(S10:AG10)) -> 0 | K10: =(SUM(S10:AG10)) -> 0 | M10: =ROUND(IF(I10*0.25-0.5<0,0,I10*0.25-0.5),0)-P10-N10 -> 0 | Q10: =I10-(SUM(S10:AG10))+L10 -> 0 | R10: =IF(Q10<0,"ATENÇÃO","OK") -> OK
B11: 8 | D11: Caixa de alumínio para extintor PQS 6 kg. Fornecimento e instalação. | E11: APAG | F11: PEÇA | G11: 30.28 | H11: 193.12 | J11: =IF(SUM(S11:AG11)>I11+L11,I11+L11,SUM(S11:AG11)) -> 0 | K11: =(SUM(S11:AG11)) -> 0 | M11: =ROUND(IF(I11*0.25-0.5<0,0,I11*0.25-0.5),0)-P11-N11 -> 0 | Q11: =I11-(SUM(S11:AG11))+L11 -> 0 | R11: =IF(Q11<0,"ATENÇÃO","OK") -> OK
B12: 9 | D12: Carga em extintor CO2 04 kg. Fornecimento e instalação. | E12: APAG | F12: PEÇA | G12: 30.04 | H12: 61.51 | J12: =IF(SUM(S12:AG12)>I12+L12,I12+L12,SUM(S12:AG12)) -> 0 | K12: =(SUM(S12:AG12)) -> 0 | M12: =ROUND(IF(I12*0.25-0.5<0,0,I12*0.25-0.5),0)-P12-N12 -> 0 | Q12: =I12-(SUM(S12:AG12))+L12 -> 0 | R12: =IF(Q12<0,"ATENÇÃO","OK") -> OK
B13: 10 | D13: Carga em extintor CO2 06 kg. Fornecimento e instalação. | E13: APAG | F13: PEÇA | G13: 30.04 | H13: 93.44 | I13: 25 | J13: =IF(SUM(S13:AG13)>I13+L13,I13+L13,SUM(S13:AG13)) -> 0 | K13: =(SUM(S13:AG13)) -> 0 | M13: =ROUND(IF(I13*0.25-0.5<0,0,I13*0.25-0.5),0)-P13-N13 -> 6 | Q13: =I13-(SUM(S13:AG13))+L13 -> 25 | R13: =IF(Q13<0,"ATENÇÃO","OK") -> OK
B14: 11 | D14: Carga em extintor pó químico 04 kg ABC. Fornecimento e instalação. | E14: APAG | F14: PEÇA | G14: 30.04 | H14: 45.16 | I14: 25 | J14: =IF(SUM(S14:AG14)>I14+L14,I14+L14,SUM(S14:AG14)) -> 0 | K14: =(SUM(S14:AG14)) -> 0 | M14: =ROUND(IF(I14*0.25-0.5<0,0,I14*0.25-0.5),0)-P14-N14 -> 6 | Q14: =I14-(SUM(S14:AG14))+L14 -> 25 | R14: =IF(Q14<0,"ATENÇÃO","OK") -> OK
B15: 12 | D15: Carga em extintor pó químico 04 kg BC. Fornecimento e instalação. | E15: APAG | F15: PEÇA | G15: 30.04 | H15: 42.82 | J15: =IF(SUM(S15:AG15)>I15+L15,I15+L15,SUM(S15:AG15)) -> 0 | K15: =(SUM(S15:AG15)) -> 0 | M15: =ROUND(IF(I15*0.25-0.5<0,0,I15*0.25-0.5),0)-P15-N15 -> 0 | Q15: =I15-(SUM(S15:AG15))+L15 -> 0 | R15: =IF(Q15<0,"ATENÇÃO","OK") -> OK
B16: 13 | D16: Carga em extintor pó químico 06 kg BC. Fornecimento e instalação. | E16: APAG | F16: PEÇA | G16: 30.04 | H16: 53.73 | I16: 10 | J16: =IF(SUM(S16:AG16)>I16+L16,I16+L16,SUM(S16:AG16)) -> 0 | K16: =(SUM(S16:AG16)) -> 0 | M16: =ROUND(IF(I16*0.25-0.5<0,0,I16*0.25-0.5),0)-P16-N16 -> 2 | Q16: =I16-(SUM(S16:AG16))+L16 -> 10 | R16: =IF(Q16<0,"ATENÇÃO","OK") -> OK
B17: 14 | D17: Carga em extintor água 10 L . Fornecimento e instalação. | E17: APAG | F17: PEÇA | G17: 30.04 | H17: 28.81 | J17: =IF(SUM(S17:AG17)>I17+L17,I17+L17,SUM(S17:AG17)) -> 0 | K17: =(SUM(S17:AG17)) -> 0 | M17: =ROUND(IF(I17*0.25-0.5<0,0,I17*0.25-0.5),0)-P17-N17 -> 0 | Q17: =I17-(SUM(S17:AG17))+L17 -> 0 | R17: =IF(Q17<0,"ATENÇÃO","OK") -> OK
B18: 15 | D18: Extintor PQS 4KG ABC . Fornecimento e instalação. | E18: EXTANG | F18: PEÇA | G18: 30.28 | H18: 136.27 | J18: =IF(SUM(S18:AG18)>I18+L18,I18+L18,SUM(S18:AG18)) -> 0 | K18: =(SUM(S18:AG18)) -> 0 | M18: =ROUND(IF(I18*0.25-0.5<0,0,I18*0.25-0.5),0)-P18-N18 -> 0 | Q18: =I18-(SUM(S18:AG18))+L18 -> 0 | R18: =IF(Q18<0,"ATENÇÃO","OK") -> OK
B19: 16 | D19: Suporte de chão reforçado modelo tripé P4/P6. Fornecimento e instalação. | E19: APAG | F19: PEÇA | G19: 30.28 | H19: 35.04 | I19: 15 | J19: =IF(SUM(S19:AG19)>I19+L19,I19+L19,SUM(S19:AG19)) -> 0 | K19: =(SUM(S19:AG19)) -> 0 | M19: =ROUND(IF(I19*0.25-0.5<0,0,I19*0.25-0.5),0)-P19-N19 -> 3 | Q19: =I19-(SUM(S19:AG19))+L19 -> 15 | R19: =IF(Q19<0,"ATENÇÃO","OK") -> OK
B20: 17 | D20: Suporte de chão reforçado modelo tripé P8/P12/AP/CO2. Fornecimento e instalação. | E20: APAG | F20: PEÇA | G20: 30.28 | H20: 36.59 | I20: 15 | J20: =IF(SUM(S20:AG20)>I20+L20,I20+L20,SUM(S20:AG20)) -> 0 | K20: =(SUM(S20:AG20)) -> 0 | M20: =ROUND(IF(I20*0.25-0.5<0,0,I20*0.25-0.5),0)-P20-N20 -> 3 | Q20: =I20-(SUM(S20:AG20))+L20 -> 15 | R20: =IF(Q20<0,"ATENÇÃO","OK") -> OK
B21: 18 | D21: Suporte de parede para extintor. Fornecimento e instalação. | E21: APAG | F21: PEÇA | G21: 30.28 | H21: 15.57 | J21: =IF(SUM(S21:AG21)>I21+L21,I21+L21,SUM(S21:AG21)) -> 0 | K21: =(SUM(S21:AG21)) -> 0 | M21: =ROUND(IF(I21*0.25-0.5<0,0,I21*0.25-0.5),0)-P21-N21 -> 0 | Q21: =I21-(SUM(S21:AG21))+L21 -> 0 | R21: =IF(Q21<0,"ATENÇÃO","OK") -> OK
B22: 19 | D22: Mangueira de incêndio predial tipo 2 - 1.1/2 pol. x 15m. Fornecimento e instalação. | E22: SEGURIMAX | F22: PEÇA | G22: 30.28 | H22: 325.5 | J22: =IF(SUM(S22:AG22)>I22+L22,I22+L22,SUM(S22:AG22)) -> 0 | K22: =(SUM(S22:AG22)) -> 0 | M22: =ROUND(IF(I22*0.25-0.5<0,0,I22*0.25-0.5),0)-P22-N22 -> 0 | Q22: =I22-(SUM(S22:AG22))+L22 -> 0 | R22: =IF(Q22<0,"ATENÇÃO","OK") -> OK
B23: 20 | D23: Mangueira extintor CO2 4/6 kg. Fornecimento e instalação. | E23: SEGURIMAX | F23: PEÇA | G23: 30.28 | H23: 49.05 | J23: =IF(SUM(S23:AG23)>I23+L23,I23+L23,SUM(S23:AG23)) -> 0 | K23: =(SUM(S23:AG23)) -> 0 | M23: =ROUND(IF(I23*0.25-0.5<0,0,I23*0.25-0.5),0)-P23-N23 -> 0 | Q23: =I23-(SUM(S23:AG23))+L23 -> 0 | R23: =IF(Q23<0,"ATENÇÃO","OK") -> OK
B24: 21 | D24: Mangueira extintor pó químico 4/6 kg. Fornecimento e instalação. | E24: MARAGNA | F24: PEÇA | G24: 30.28 | H24: 21.8 | J24: =IF(SUM(S24:AG24)>I24+L24,I24+L24,SUM(S24:AG24)) -> 0 | K24: =(SUM(S24:AG24)) -> 0 | M24: =ROUND(IF(I24*0.25-0.5<0,0,I24*0.25-0.5),0)-P24-N24 -> 0 | Q24: =I24-(SUM(S24:AG24))+L24 -> 0 | R24: =IF(Q24<0,"ATENÇÃO","OK") -> OK
B25: 22 | D25: Difusor extintor CO2 4/6 kg. Fornecimento e instalação. | E25: MARAGNA | F25: PEÇA | G25: 30.28 | H25: 9.34 | J25: =IF(SUM(S25:AG25)>I25+L25,I25+L25,SUM(S25:AG25)) -> 0 | K25: =(SUM(S25:AG25)) -> 0 | M25: =ROUND(IF(I25*0.25-0.5<0,0,I25*0.25-0.5),0)-P25-N25 -> 0 | Q25: =I25-(SUM(S25:AG25))+L25 -> 0 | R25: =IF(Q25<0,"ATENÇÃO","OK") -> OK
B26: 23 | D26: Manômetro extintor pó químico. Fornecimento e instalação. | E26: MERCOSUL | F26: PEÇA | G26: 30.28 | H26: 4.67 | J26: =IF(SUM(S26:AG26)>I26+L26,I26+L26,SUM(S26:AG26)) -> 0 | K26: =(SUM(S26:AG26)) -> 0 | M26: =ROUND(IF(I26*0.25-0.5<0,0,I26*0.25-0.5),0)-P26-N26 -> 0 | Q26: =I26-(SUM(S26:AG26))+L26 -> 0 | R26: =IF(Q26<0,"ATENÇÃO","OK") -> OK
B27: 24 | D27: Válvula extintor CO2 4/6 kg. Fornecimento e instalação. | E27: MERCOSUL | F27: PEÇA | G27: 30.28 | H27: 77.87 | J27: =IF(SUM(S27:AG27)>I27+L27,I27+L27,SUM(S27:AG27)) -> 0 | K27: =(SUM(S27:AG27)) -> 0 | M27: =ROUND(IF(I27*0.25-0.5<0,0,I27*0.25-0.5),0)-P27-N27 -> 0 | Q27: =I27-(SUM(S27:AG27))+L27 -> 0 | R27: =IF(Q27<0,"ATENÇÃO","OK") -> OK
B28: 25 | D28: Válvula extintor pó químico 4/6 kg. Fornecimento e instalação. | E28: MERCOSUL | F28: PEÇA | G28: 30.28 | H28: 32.7 | J28: =IF(SUM(S28:AG28)>I28+L28,I28+L28,SUM(S28:AG28)) -> 0 | K28: =(SUM(S28:AG28)) -> 0 | M28: =ROUND(IF(I28*0.25-0.5<0,0,I28*0.25-0.5),0)-P28-N28 -> 0 | Q28: =I28-(SUM(S28:AG28))+L28 -> 0 | R28: =IF(Q28<0,"ATENÇÃO","OK") -> OK
B29: 26 | D29: Bloco de iluminação de emergência autônoma LED 2 faróis 3000 lúmens. Fornecimento e instalação. | E29: SEGURIMAX | F29: PEÇA | G29: 30.26 | H29: 203.24 | J29: =IF(SUM(S29:AG29)>I29+L29,I29+L29,SUM(S29:AG29)) -> 0 | K29: =(SUM(S29:AG29)) -> 0 | M29: =ROUND(IF(I29*0.25-0.5<0,0,I29*0.25-0.5),0)-P29-N29 -> 0 | Q29: =I29-(SUM(S29:AG29))+L29 -> 0 | R29: =IF(Q29<0,"ATENÇÃO","OK") -> OK
B30: 27 | D30: Bloco de iluminação de emergência autônoma LED 2 faróis 1200 lúmens. Fornecimento e instalação. | E30: LUXPRYME | F30: PEÇA | G30: 30.26 | H30: 207.13 | J30: =IF(SUM(S30:AG30)>I30+L30,I30+L30,SUM(S30:AG30)) -> 0 | K30: =(SUM(S30:AG30)) -> 0 | M30: =ROUND(IF(I30*0.25-0.5<0,0,I30*0.25-0.5),0)-P30-N30 -> 0 | Q30: =I30-(SUM(S30:AG30))+L30 -> 0 | R30: =IF(Q30<0,"ATENÇÃO","OK") -> OK
B31: 28 | D31: Bloco de iluminação de emergência coletiva LED 2 faróis 1200 lúmens. Fornecimento e instalação. | E31: LUXPRYME | F31: PEÇA | G31: 30.26 | H31: 70.08 | J31: =IF(SUM(S31:AG31)>I31+L31,I31+L31,SUM(S31:AG31)) -> 0 | K31: =(SUM(S31:AG31)) -> 0 | M31: =ROUND(IF(I31*0.25-0.5<0,0,I31*0.25-0.5),0)-P31-N31 -> 0 | Q31: =I31-(SUM(S31:AG31))+L31 -> 0 | R31: =IF(Q31<0,"ATENÇÃO","OK") -> OK
B32: 29 | D32: Central de iluminação de emergência 24V sem bateria. Fornecimento e instalação. | E32: LUXPRYME | F32: PEÇA | G32: 30.26 | H32: 1479.56 | J32: =IF(SUM(S60:AG60)>I32+L32,I32+L32,SUM(S60:AG60)) -> 0 | K32: =(SUM(S60:AG60)) -> 0 | M32: =ROUND(IF(I32*0.25-0.5<0,0,I32*0.25-0.5),0)-P32-N32 -> 0 | Q32: =I32-(SUM(S60:AG60))+L32 -> 0 | R32: =IF(Q32<0,"ATENÇÃO","OK") -> OK
B33: 30 | D33: Luminária de emergência autônoma 30 LED super Slim. Fornecimento e instalação. | E33: SEGURIMAX | F33: PEÇA | G33: 30.26 | H33: 18.68 | I33: 40 | J33: =IF(SUM(S33:AG33)>I33+L33,I33+L33,SUM(S33:AG33)) -> 0 | K33: =(SUM(S33:AG33)) -> 0 | M33: =ROUND(IF(I33*0.25-0.5<0,0,I33*0.25-0.5),0)-P33-N33 -> 10 | Q33: =I33-(SUM(S33:AG33))+L33 -> 40 | R33: =IF(Q33<0,"ATENÇÃO","OK") -> OK
B34: 31 | D34: Placa fotoluminescente em caso de incêndio não use o elevador de PVC 24 x 12cm. Fornecimento e instalação. | E34: SCALA | F34: PEÇA | G34: 30.44 | H34: 7.24 | J34: =IF(SUM(S34:AG34)>I34+L34,I34+L34,SUM(S34:AG34)) -> 0 | K34: =(SUM(S34:AG34)) -> 0 | M34: =ROUND(IF(I34*0.25-0.5<0,0,I34*0.25-0.5),0)-P34-N34 -> 0 | Q34: =I34-(SUM(S34:AG34))+L34 -> 0 | R34: =IF(Q34<0,"ATENÇÃO","OK") -> OK
B35: 32 | D35: Placa fotoluminescente rota de fuga pela escada à direita seta para baixo de PVC 30 x 15cm. Fornecimento e instalação. | E35: SCALA | F35: PEÇA | G35: 30.44 | H35: 22.58 | J35: =IF(SUM(S35:AG35)>I35+L35,I35+L35,SUM(S35:AG35)) -> 0 | K35: =(SUM(S35:AG35)) -> 0 | M35: =ROUND(IF(I35*0.25-0.5<0,0,I35*0.25-0.5),0)-P35-N35 -> 0 | Q35: =I35-(SUM(S35:AG35))+L35 -> 0 | R35: =IF(Q35<0,"ATENÇÃO","OK") -> OK
B36: 33 | D36: Placa fotoluminescente rota de fuga pela escada à esquerda seta para baixo de PVC 30 x 15cm. Fornecimento e instalação. | E36: SCALA | F36: PEÇA | G36: 30.44 | H36: 23.36 | J36: =IF(SUM(S36:AG36)>I36+L36,I36+L36,SUM(S36:AG36)) -> 0 | K36: =(SUM(S36:AG36)) -> 0 | M36: =ROUND(IF(I36*0.25-0.5<0,0,I36*0.25-0.5),0)-P36-N36 -> 0 | Q36: =I36-(SUM(S36:AG36))+L36 -> 0 | R36: =IF(Q36<0,"ATENÇÃO","OK") -> OK
B37: 34 | D37: Placa fotoluminescente saída de emergência de PVC 30x15cm. Fornecimento e instalação. | E37: SCALA | F37: PEÇA | G37: 30.44 | H37: 12.22 | J37: =IF(SUM(S37:AG37)>I37+L37,I37+L37,SUM(S37:AG37)) -> 0 | K37: =(SUM(S37:AG37)) -> 0 | M37: =ROUND(IF(I37*0.25-0.5<0,0,I37*0.25-0.5),0)-P37-N37 -> 0 | Q37: =I37-(SUM(S37:AG37))+L37 -> 0 | R37: =IF(Q37<0,"ATENÇÃO","OK") -> OK
B38: 35 | D38: Placa fotoluminescente saída duas faces de PVC 24 x 12cm. Fornecimento e instalação. | E38: SCALA | F38: PEÇA | G38: 30.44 | H38: 16.82 | J38: =IF(SUM(S38:AG38)>I38+L38,I38+L38,SUM(S38:AG38)) -> 0 | K38: =(SUM(S38:AG38)) -> 0 | M38: =ROUND(IF(I38*0.25-0.5<0,0,I38*0.25-0.5),0)-P38-N38 -> 0 | Q38: =I38-(SUM(S38:AG38))+L38 -> 0 | R38: =IF(Q38<0,"ATENÇÃO","OK") -> OK
B39: 36 | D39: Placa fotoluminescente saída seta para direita de PVC 25x16cm. Fornecimento e instalação. | E39: SCALA | F39: PEÇA | G39: 30.44 | H39: 13.82 | J39: =IF(SUM(S39:AG39)>I39+L39,I39+L39,SUM(S39:AG39)) -> 0 | K39: =(SUM(S39:AG39)) -> 0 | M39: =ROUND(IF(I39*0.25-0.5<0,0,I39*0.25-0.5),0)-P39-N39 -> 0 | Q39: =I39-(SUM(S39:AG39))+L39 -> 0 | R39: =IF(Q39<0,"ATENÇÃO","OK") -> OK
B40: 37 | D40: Placa fotoluminescente saída seta para esquerda de PVC 25x16cm. Fornecimento e instalação. | E40: SCALA | F40: PEÇA | G40: 30.44 | H40: 11.68 | J40: =IF(SUM(S40:AG40)>I40+L40,I40+L40,SUM(S40:AG40)) -> 0 | K40: =(SUM(S40:AG40)) -> 0 | M40: =ROUND(IF(I40*0.25-0.5<0,0,I40*0.25-0.5),0)-P40-N40 -> 0 | Q40: =I40-(SUM(S40:AG40))+L40 -> 0 | R40: =IF(Q40<0,"ATENÇÃO","OK") -> OK
...

Sheet CEART
A1: SRP PE 1070/2026 SGPE 15960/2026 | D1: OBJETO: CONTRATAÇÃO DE EMPRESA PARA MANUTENÇÃO DE EXTINTORES E AQUISIÇÃO DE MATERIAIS E EQUIPAMENTOS DE SEGURANÇA E COMBATE A INCÊNDIO PARA A UDESC | I1: VIGÊNCIA DA ATA: 22/10/2026 A 22/10/2027 | S1: AF nºxxx/2026 Qtde. DT | T1: AF nºxxx/2026 Qtde. DT | U1: AF nºxxx/2026 Qtde. DT | V1: AF nºxxx/2026 Qtde. DT | W1: AF nºxxx/2026 Qtde. DT | X1: AF nºxxx/2026 Qtde. DT | Y1: AF nºxxx/2026 Qtde. DT | Z1: AF nºxxx/2026 Qtde. DT | AA1: AF nºxxx/2026 Qtde. DT | AB1: AF nºxxx/2026 Qtde. DT | AC1: AF nºxxx/2026 Qtde. DT | AD1: AF nºxxx/2026 Qtde. DT | AE1: AF nºxxx/2026 Qtde. DT | AF1: AF nºxxx/2026 Qtde. DT | AG1: AF nºxxx/2026 Qtde. DT
A2: CENTRO PARTICIPANTE: REITORIA
A3: Lote | B3: Item | C3: Empresa | D3: Descrição | E3: Marca | F3: Unidade de Compra | G3: Detalhamento | H3: Preço Unitário | I3: Quantidade Registrada | J3: Qtdade utilizada da ata | K3: Qtdade utilizada total | L3: Qtdade Receb./Cedida | M3: Qtdade disponível para aditivar | N3: Qtdade aditivada própria | O3: Qtdade aditivos recebidos | P3: Qtdade aditivos cedidos | Q3: Saldo / Automático | R3: ALERTA | S3: ...../...../2026 | T3: ...../...../2026 | U3: ...../...../2026 | V3: ...../...../2026 | W3: ...../...../2026 | X3: ...../...../2026 | Y3: ...../...../2026 | Z3: ...../...../2026 | AA3: ...../...../2026 | AB3: ...../...../2026 | AC3: ...../...../2026 | AD3: ...../...../2026 | AE3: ...../...../2026 | AF3: ...../...../2026 | AG3: ...../...../2026
A4: 1 | B4: 1 | C4: APAG PRODUTOS E SERVIÇOS LTDA 02.591.012/0001-63 | D4: Bateria para centrais de alarme de incêndio endereçável 12V/1,3AH. Fornecimento e instalação. | E4: UNIPOWER | F4: PEÇA | G4: 30.28 | H4: 100.45 | J4: =IF(SUM(S4:AG4)>I4+L4,I4+L4,SUM(S4:AG4)) -> 0 | K4: =(SUM(S4:AG4)) -> 0 | M4: =ROUND(IF(I4*0.25-0.5<0,0,I4*0.25-0.5),0)-P4-N4 -> 0 | Q4: =I4-(SUM(S4:AG4))+L4 -> 0 | R4: =IF(Q4<0,"ATENÇÃO","OK") -> OK
B5: 2 | D5: Central de alarme de incêndio endereçável 125 endereços IP20 24V com bateria. Fornecimento e instalação. | E5: INTELBRAS | F5: PEÇA | G5: 30.28 | H5: 1705.39 | J5: =IF(SUM(S5:AG5)>I5+L5,I5+L5,SUM(S5:AG5)) -> 0 | K5: =(SUM(S5:AG5)) -> 0 | M5: =ROUND(IF(I5*0.25-0.5<0,0,I5*0.25-0.5),0)-P5-N5 -> 0 | Q5: =I5-(SUM(S5:AG5))+L5 -> 0 | R5: =IF(Q5<0,"ATENÇÃO","OK") -> OK
B6: 3 | D6: Detector óptico de fumaça endereçável compact. Fornecimento e instalação. | E6: INTELBRAS | F6: PEÇA | G6: 30.28 | H6: 136.27 | J6: =IF(SUM(S6:AG6)>I6+L6,I6+L6,SUM(S6:AG6)) -> 0 | K6: =(SUM(S6:AG6)) -> 0 | M6: =ROUND(IF(I6*0.25-0.5<0,0,I6*0.25-0.5),0)-P6-N6 -> 0 | Q6: =I6-(SUM(S6:AG6))+L6 -> 0 | R6: =IF(Q6<0,"ATENÇÃO","OK") -> OK
B7: 4 | D7: Detector óptico de fumaça endereçável 24V. Fornecimento e instalação. | E7: INTELBRAS | F7: PEÇA | G7: 30.28 | H7: 154.18 | J7: =IF(SUM(S7:AG7)>I7+L7,I7+L7,SUM(S7:AG7)) -> 0 | K7: =(SUM(S7:AG7)) -> 0 | M7: =ROUND(IF(I7*0.25-0.5<0,0,I7*0.25-0.5),0)-P7-N7 -> 0 | Q7: =I7-(SUM(S7:AG7))+L7 -> 0 | R7: =IF(Q7<0,"ATENÇÃO","OK") -> OK
B8: 5 | D8: Detector termovelocimétrico 24VCC endereçável com módulo (T). Fornecimento e instalação. | E8: INTELBRAS | F8: PEÇA | G8: 30.28 | H8: 159.63 | J8: =IF(SUM(S8:AG8)>I8+L8,I8+L8,SUM(S8:AG8)) -> 0 | K8: =(SUM(S8:AG8)) -> 0 | M8: =ROUND(IF(I8*0.25-0.5<0,0,I8*0.25-0.5),0)-P8-N8 -> 0 | Q8: =I8-(SUM(S8:AG8))+L8 -> 0 | R8: =IF(Q8<0,"ATENÇÃO","OK") -> OK
B9: 6 | D9: Fonte auxiliar IP20 24V endereçável. Fornecimento e instalação. | E9: INTELBRAS | F9: PEÇA | G9: 30.28 | H9: 692.28 | J9: =IF(SUM(S9:AG9)>I9+L9,I9+L9,SUM(S9:AG9)) -> 0 | K9: =(SUM(S9:AG9)) -> 0 | M9: =ROUND(IF(I9*0.25-0.5<0,0,I9*0.25-0.5),0)-P9-N9 -> 0 | Q9: =I9-(SUM(S9:AG9))+L9 -> 0 | R9: =IF(Q9<0,"ATENÇÃO","OK") -> OK
B10: 7 | D10: Fonte de alimentação IP20 24V endereçável. Fornecimento e instalação. | E10: INTELBRAS | F10: PEÇA | G10: 30.28 | H10: 700.84 | J10: =IF(SUM(S10:AG10)>I10+L10,I10+L10,SUM(S10:AG10)) -> 0 | K10: =(SUM(S10:AG10)) -> 0 | M10: =ROUND(IF(I10*0.25-0.5<0,0,I10*0.25-0.5),0)-P10-N10 -> 0 | Q10: =I10-(SUM(S10:AG10))+L10 -> 0 | R10: =IF(Q10<0,"ATENÇÃO","OK") -> OK
B11: 8 | D11: Caixa de alumínio para extintor PQS 6 kg. Fornecimento e instalação. | E11: APAG | F11: PEÇA | G11: 30.28 | H11: 193.12 | I11: 10 | J11: =IF(SUM(S11:AG11)>I11+L11,I11+L11,SUM(S11:AG11)) -> 0 | K11: =(SUM(S11:AG11)) -> 0 | M11: =ROUND(IF(I11*0.25-0.5<0,0,I11*0.25-0.5),0)-P11-N11 -> 2 | Q11: =I11-(SUM(S11:AG11))+L11 -> 10 | R11: =IF(Q11<0,"ATENÇÃO","OK") -> OK
B12: 9 | D12: Carga em extintor CO2 04 kg. Fornecimento e instalação. | E12: APAG | F12: PEÇA | G12: 30.04 | H12: 61.51 | J12: =IF(SUM(S12:AG12)>I12+L12,I12+L12,SUM(S12:AG12)) -> 0 | K12: =(SUM(S12:AG12)) -> 0 | M12: =ROUND(IF(I12*0.25-0.5<0,0,I12*0.25-0.5),0)-P12-N12 -> 0 | Q12: =I12-(SUM(S12:AG12))+L12 -> 0 | R12: =IF(Q12<0,"ATENÇÃO","OK") -> OK
B13: 10 | D13: Carga em extintor CO2 06 kg. Fornecimento e instalação. | E13: APAG | F13: PEÇA | G13: 30.04 | H13: 93.44 | I13: 50 | J13: =IF(SUM(S13:AG13)>I13+L13,I13+L13,SUM(S13:AG13)) -> 0 | K13: =(SUM(S13:AG13)) -> 0 | M13: =ROUND(IF(I13*0.25-0.5<0,0,I13*0.25-0.5),0)-P13-N13 -> 12 | Q13: =I13-(SUM(S13:AG13))+L13 -> 50 | R13: =IF(Q13<0,"ATENÇÃO","OK") -> OK
B14: 11 | D14: Carga em extintor pó químico 04 kg ABC. Fornecimento e instalação. | E14: APAG | F14: PEÇA | G14: 30.04 | H14: 45.16 | I14: 40 | J14: =IF(SUM(S14:AG14)>I14+L14,I14+L14,SUM(S14:AG14)) -> 0 | K14: =(SUM(S14:AG14)) -> 0 | M14: =ROUND(IF(I14*0.25-0.5<0,0,I14*0.25-0.5),0)-P14-N14 -> 10 | Q14: =I14-(SUM(S14:AG14))+L14 -> 40 | R14: =IF(Q14<0,"ATENÇÃO","OK") -> OK
B15: 12 | D15: Carga em extintor pó químico 04 kg BC. Fornecimento e instalação. | E15: APAG | F15: PEÇA | G15: 30.04 | H15: 42.82 | J15: =IF(SUM(S15:AG15)>I15+L15,I15+L15,SUM(S15:AG15)) -> 0 | K15: =(SUM(S15:AG15)) -> 0 | M15: =ROUND(IF(I15*0.25-0.5<0,0,I15*0.25-0.5),0)-P15-N15 -> 0 | Q15: =I15-(SUM(S15:AG15))+L15 -> 0 | R15: =IF(Q15<0,"ATENÇÃO","OK") -> OK
B16: 13 | D16: Carga em extintor pó químico 06 kg BC. Fornecimento e instalação. | E16: APAG | F16: PEÇA | G16: 30.04 | H16: 53.73 | I16: 40 | J16: =IF(SUM(S16:AG16)>I16+L16,I16+L16,SUM(S16:AG16)) -> 0 | K16: =(SUM(S16:AG16)) -> 0 | M16: =ROUND(IF(I16*0.25-0.5<0,0,I16*0.25-0.5),0)-P16-N16 -> 10 | Q16: =I16-(SUM(S16:AG16))+L16 -> 40 | R16: =IF(Q16<0,"ATENÇÃO","OK") -> OK
B17: 14 | D17: Carga em extintor água 10 L . Fornecimento e instalação. | E17: APAG | F17: PEÇA | G17: 30.04 | H17: 28.81 | J17: =IF(SUM(S17:AG17)>I17+L17,I17+L17,SUM(S17:AG17)) -> 0 | K17: =(SUM(S17:AG17)) -> 0 | M17: =ROUND(IF(I17*0.25-0.5<0,0,I17*0.25-0.5),0)-P17-N17 -> 0 | Q17: =I17-(SUM(S17:AG17))+L17 -> 0 | R17: =IF(Q17<0,"ATENÇÃO","OK") -> OK
B18: 15 | D18: Extintor PQS 4KG ABC . Fornecimento e instalação. | E18: EXTANG | F18: PEÇA | G18: 30.28 | H18: 136.27 | J18: =IF(SUM(S18:AG18)>I18+L18,I18+L18,SUM(S18:AG18)) -> 0 | K18: =(SUM(S18:AG18)) -> 0 | M18: =ROUND(IF(I18*0.25-0.5<0,0,I18*0.25-0.5),0)-P18-N18 -> 0 | Q18: =I18-(SUM(S18:AG18))+L18 -> 0 | R18: =IF(Q18<0,"ATENÇÃO","OK") -> OK
B19: 16 | D19: Suporte de chão reforçado modelo tripé P4/P6. Fornecimento e instalação. | E19: APAG | F19: PEÇA | G19: 30.28 | H19: 35.04 | I19: 20 | J19: =IF(SUM(S19:AG19)>I19+L19,I19+L19,SUM(S19:AG19)) -> 0 | K19: =(SUM(S19:AG19)) -> 0 | M19: =ROUND(IF(I19*0.25-0.5<0,0,I19*0.25-0.5),0)-P19-N19 -> 5 | Q19: =I19-(SUM(S19:AG19))+L19 -> 20 | R19: =IF(Q19<0,"ATENÇÃO","OK") -> OK
B20: 17 | D20: Suporte de chão reforçado modelo tripé P8/P12/AP/CO2. Fornecimento e instalação. | E20: APAG | F20: PEÇA | G20: 30.28 | H20: 36.59 | I20: 5 | J20: =IF(SUM(S20:AG20)>I20+L20,I20+L20,SUM(S20:AG20)) -> 0 | K20: =(SUM(S20:AG20)) -> 0 | M20: =ROUND(IF(I20*0.25-0.5<0,0,I20*0.25-0.5),0)-P20-N20 -> 1 | Q20: =I20-(SUM(S20:AG20))+L20 -> 5 | R20: =IF(Q20<0,"ATENÇÃO","OK") -> OK
B21: 18 | D21: Suporte de parede para extintor. Fornecimento e instalação. | E21: APAG | F21: PEÇA | G21: 30.28 | H21: 15.57 | J21: =IF(SUM(S21:AG21)>I21+L21,I21+L21,SUM(S21:AG21)) -> 0 | K21: =(SUM(S21:AG21)) -> 0 | M21: =ROUND(IF(I21*0.25-0.5<0,0,I21*0.25-0.5),0)-P21-N21 -> 0 | Q21: =I21-(SUM(S21:AG21))+L21 -> 0 | R21: =IF(Q21<0,"ATENÇÃO","OK") -> OK
B22: 19 | D22: Mangueira de incêndio predial tipo 2 - 1.1/2 pol. x 15m. Fornecimento e instalação. | E22: SEGURIMAX | F22: PEÇA | G22: 30.28 | H22: 325.5 | J22: =IF(SUM(S22:AG22)>I22+L22,I22+L22,SUM(S22:AG22)) -> 0 | K22: =(SUM(S22:AG22)) -> 0 | M22: =ROUND(IF(I22*0.25-0.5<0,0,I22*0.25-0.5),0)-P22-N22 -> 0 | Q22: =I22-(SUM(S22:AG22))+L22 -> 0 | R22: =IF(Q22<0,"ATENÇÃO","OK") -> OK
B23: 20 | D23: Mangueira extintor CO2 4/6 kg. Fornecimento e instalação. | E23: SEGURIMAX | F23: PEÇA | G23: 30.28 | H23: 49.05 | J23: =IF(SUM(S23:AG23)>I23+L23,I23+L23,SUM(S23:AG23)) -> 0 | K23: =(SUM(S23:AG23)) -> 0 | M23: =ROUND(IF(I23*0.25-0.5<0,0,I23*0.25-0.5),0)-P23-N23 -> 0 | Q23: =I23-(SUM(S23:AG23))+L23 -> 0 | R23: =IF(Q23<0,"ATENÇÃO","OK") -> OK
B24: 21 | D24: Mangueira extintor pó químico 4/6 kg. Fornecimento e instalação. | E24: MARAGNA | F24: PEÇA | G24: 30.28 | H24: 21.8 | J24: =IF(SUM(S24:AG24)>I24+L24,I24+L24,SUM(S24:AG24)) -> 0 | K24: =(SUM(S24:AG24)) -> 0 | M24: =ROUND(IF(I24*0.25-0.5<0,0,I24*0.25-0.5),0)-P24-N24 -> 0 | Q24: =I24-(SUM(S24:AG24))+L24 -> 0 | R24: =IF(Q24<0,"ATENÇÃO","OK") -> OK
B25: 22 | D25: Difusor extintor CO2 4/6 kg. Fornecimento e instalação. | E25: MARAGNA | F25: PEÇA | G25: 30.28 | H25: 9.34 | J25: =IF(SUM(S25:AG25)>I25+L25,I25+L25,SUM(S25:AG25)) -> 0 | K25: =(SUM(S25:AG25)) -> 0 | M25: =ROUND(IF(I25*0.25-0.5<0,0,I25*0.25-0.5),0)-P25-N25 -> 0 | Q25: =I25-(SUM(S25:AG25))+L25 -> 0 | R25: =IF(Q25<0,"ATENÇÃO","OK") -> OK
B26: 23 | D26: Manômetro extintor pó químico. Fornecimento e instalação. | E26: MERCOSUL | F26: PEÇA | G26: 30.28 | H26: 4.67 | J26: =IF(SUM(S26:AG26)>I26+L26,I26+L26,SUM(S26:AG26)) -> 0 | K26: =(SUM(S26:AG26)) -> 0 | M26: =ROUND(IF(I26*0.25-0.5<0,0,I26*0.25-0.5),0)-P26-N26 -> 0 | Q26: =I26-(SUM(S26:AG26))+L26 -> 0 | R26: =IF(Q26<0,"ATENÇÃO","OK") -> OK
B27: 24 | D27: Válvula extintor CO2 4/6 kg. Fornecimento e instalação. | E27: MERCOSUL | F27: PEÇA | G27: 30.28 | H27: 77.87 | J27: =IF(SUM(S27:AG27)>I27+L27,I27+L27,SUM(S27:AG27)) -> 0 | K27: =(SUM(S27:AG27)) -> 0 | M27: =ROUND(IF(I27*0.25-0.5<0,0,I27*0.25-0.5),0)-P27-N27 -> 0 | Q27: =I27-(SUM(S27:AG27))+L27 -> 0 | R27: =IF(Q27<0,"ATENÇÃO","OK") -> OK
B28: 25 | D28: Válvula extintor pó químico 4/6 kg. Fornecimento e instalação. | E28: MERCOSUL | F28: PEÇA | G28: 30.28 | H28: 32.7 | J28: =IF(SUM(S28:AG28)>I28+L28,I28+L28,SUM(S28:AG28)) -> 0 | K28: =(SUM(S28:AG28)) -> 0 | M28: =ROUND(IF(I28*0.25-0.5<0,0,I28*0.25-0.5),0)-P28-N28 -> 0 | Q28: =I28-(SUM(S28:AG28))+L28 -> 0 | R28: =IF(Q28<0,"ATENÇÃO","OK") -> OK
B29: 26 | D29: Bloco de iluminação de emergência autônoma LED 2 faróis 3000 lúmens. Fornecimento e instalação. | E29: SEGURIMAX | F29: PEÇA | G29: 30.26 | H29: 203.24 | I29: 2 | J29: =IF(SUM(S29:AG29)>I29+L29,I29+L29,SUM(S29:AG29)) -> 0 | K29: =(SUM(S29:AG29)) -> 0 | M29: =ROUND(IF(I29*0.25-0.5<0,0,I29*0.25-0.5),0)-P29-N29 -> 0 | Q29: =I29-(SUM(S29:AG29))+L29 -> 2 | R29: =IF(Q29<0,"ATENÇÃO","OK") -> OK
B30: 27 | D30: Bloco de iluminação de emergência autônoma LED 2 faróis 1200 lúmens. Fornecimento e instalação. | E30: LUXPRYME | F30: PEÇA | G30: 30.26 | H30: 207.13 | J30: =IF(SUM(S30:AG30)>I30+L30,I30+L30,SUM(S30:AG30)) -> 0 | K30: =(SUM(S30:AG30)) -> 0 | M30: =ROUND(IF(I30*0.25-0.5<0,0,I30*0.25-0.5),0)-P30-N30 -> 0 | Q30: =I30-(SUM(S30:AG30))+L30 -> 0 | R30: =IF(Q30<0,"ATENÇÃO","OK") -> OK
