Workbook
Name _PE1451: OFFSET(#REF!,(MATCH(SMALL(#REF!,ROW()-10),#REF!,0)-1),0)
Name diasuteis: #REF!
Name Ferias: #REF!
Name RD: OFFSET(#REF!,(MATCH(SMALL(#REF!,ROW()-10),#REF!,0)-1),0)
Name teste: #REF!

Sheet SECOM
A1: PROCESSO: PE 630/2025 - SGPE 52651/2024 | D1: OBJETO: Contratação de empresa especializada em Serviços Gráficos (IMPRESSOS ADAPTADOS, BANNERS, ADESIVOS, ENTRE OUTROS) – TODA UDESC | K1: VIGÊNCIA DA ATA: 29/05/2025 até 29/05/2026 | U1: OS nº 1162/2025 Qtde. DT | V1: AF nº 1340/2025 Qtde. DT | W1: AF nº 1446/2025 Qtde. DT | X1: AF nº 1471/2025 Qtde. DT | Y1: AF nº 1473/2025 Qtde. DT | Z1: AF nº 1632/2025 Qtde. DT | AA1: AF nº 1860/2025 Qtde. DT | AB1: AF nº 2131/2025 Qtde. DT | AC1: AF nº 167/2026 Qtde. DT | AD1: AF nº 169/2026 Qtde. DT | AE1: AF nº 182/2026 Qtde. DT | AF1: AF nº 289/2026 Qtde. DT | AG1: AF nº 291/2026 Qtde. DT | AH1: AF nº 539/2026 Qtde. DT | AI1: AF nº 783/2026 Qtde. DT | AJ1: AF nº 865/2026 Qtde. DT | AK1: AF nº 866/2026 Qtde. DT | AL1: AF nº 867/2026 Qtde. DT | AM1: AF nº 881/2026 Qtde. DT
A2: CENTRO PARTICIPANTE: REITORIA/SECOM | K2: OBS: VALOR MÍNIMO DA OS: R$ 300,00
A3: Lote | B3: Empresa | C3: Item | D3: Especificação | E3: Dimensões | F3: Grupo-Classe | G3: Código NUC | H3: Detalhamento | I3: Unidade | J3: Preço Unitário | K3: Qtde Registrada | L3: QUANTIDADE UTILIZADA da Ata | M3: QUANTIDADE UTILIZADA Total | N3: Quantidade Receb/Cedida | O3: QUANTIDADE DISPONÍVEL PARA ADITIVAR | P3: Quantidade Aditivada Própria | Q3: Quantidade Aditivos recebidos | R3: Quantidade Aditivos cedidos | S3: Saldo / Automático | T3: ALERTA | U3: 45841 | V3: 45859 | W3: 45880 | X3: 45882 | Y3: 45882 | Z3: 45898 | AA3: 45924 | AB3: 45943 | AC3: 46065 | AD3: 46065 | AE3: 46071 | AF3: 46085 | AG3: 46085 | AH3: 46126 | AI3: 46161 | AJ3: 46169 | AK3: 46169 | AL3: 46169 | AM3: 46171
A4: 1 | B4: YNOV DISTRIBUICAO DE PRODUTOS LTDA ME, CNPJ 38.903.127/0001-93 | C4: 1 | D4: Banner em lona, impressão digital 4x0 cores, resolução mínima 720 dpi's e 280 g/m² de gramatura mínima; e suporte: 1) em madeira em duas das menores extremidades e acabamento com ponteira de PVC (grampeada) e corda trançada de no mínimo 4mm e de resistência suficiente e compatível com o banner; ou 2) com ilhóses dispostos de 20 em 20 cm, em ferro ou alumínio e de diâmetro compatível com a corda utilizada - corda trançada de no mínimo 4mm e de resistência suficiente e compatível com o banner. DIMENSÕES | E4: 50 X 70cm | F4: 02-12 | G4: 50031-001 | H4: 339039.63 339030.16 | I4: Unidade | J4: 11.07 | K4: 0 | L4: =IF(SUM(U4:AM4)>K4+N4,K4+N4,SUM(U4:AM4)) -> 0 | M4: =(SUM(U4:AM4)) -> 0 | N4: 5 | O4: =ROUND(IF(K4*0.25-0.5<0,0,K4*0.25-0.5),0)-R4-P4 -> 0 | S4: =K4+N4+P4+Q4-M4 -> 5 | T4: =IF(S4<0,"ATENÇÃO","OK") -> OK | V4: =5-5 -> 0
C5: 2 | E5: 90 X 150cm | F5: 02-12 | G5: 50031-001 | H5: 339039.63 339030.16 | I5: Unidade | J5: 35.35 | K5: 50 | L5: =IF(SUM(U5:AM5)>K5+N5,K5+N5,SUM(U5:AM5)) -> 7 | M5: =(SUM(U5:AM5)) -> 7 | O5: =ROUND(IF(K5*0.25-0.5<0,0,K5*0.25-0.5),0)-R5-P5 -> 12 | S5: =K5+N5+P5+Q5-M5 -> 43 | T5: =IF(S5<0,"ATENÇÃO","OK") -> OK | V5: =5-2 -> 3 | AH5: =2+2 -> 4
C6: 3 | E6: 110 X 150cm | F6: 02-12 | G6: 50031-001 | H6: 339039.63 339030.16 | I6: Unidade | J6: 43 | K6: 50 | L6: =IF(SUM(U6:AM6)>K6+N6,K6+N6,SUM(U6:AM6)) -> 16 | M6: =(SUM(U6:AM6)) -> 16 | O6: =ROUND(IF(K6*0.25-0.5<0,0,K6*0.25-0.5),0)-R6-P6 -> 12 | S6: =K6+N6+P6+Q6-M6 -> 34 | T6: =IF(S6<0,"ATENÇÃO","OK") -> OK | V6: =5-3 -> 2 | AH6: =2+7 -> 9 | AM6: 5 | AN6: =AM6*J6 -> 215
C7: 4 | E7: 130 X 180cm | F7: 02-12 | G7: 50031-001 | H7: 339039.63 339030.16 | I7: Unidade | J7: 61.01 | K7: 50 | L7: =IF(SUM(U7:AM7)>K7+N7,K7+N7,SUM(U7:AM7)) -> 45 | M7: =(SUM(U7:AM7)) -> 45 | N7: -5 | O7: =ROUND(IF(K7*0.25-0.5<0,0,K7*0.25-0.5),0)-R7-P7 -> 12 | S7: =K7+N7+P7+Q7-M7 -> 0 | T7: =IF(S7<0,"ATENÇÃO","OK") -> OK | V7: =5-5 -> 0 | AB7: 16 | AH7: 20 | AM7: 9 | AN7: =AM7*J7 -> 549.09
C8: 5 | E8: 80 X 120cm | F8: 02-12 | G8: 50031-001 | H8: 339039.63 339030.16 | I8: Unidade | J8: 26.25 | K8: 50 | L8: =IF(SUM(U8:AM8)>K8+N8,K8+N8,SUM(U8:AM8)) -> 50 | M8: =(SUM(U8:AM8)) -> 50 | O8: =ROUND(IF(K8*0.25-0.5<0,0,K8*0.25-0.5),0)-R8-P8 -> 12 | S8: =K8+N8+P8+Q8-M8 -> 0 | T8: =IF(S8<0,"ATENÇÃO","OK") -> OK | V8: =5-2 -> 3 | AC8: 27 | AH8: 4 | AM8: 16 | AN8: =AM8*J8 -> 420
A9: 2 | B9: ARAÇÁ MATERIAL PUBLICITARIO EIRELLI CNPJ 16.600.308/0001-08 | C9: 6 | D9: Banner em papel sulfite - impressão digital 4x0 cores, resolução mínima 720 dpi's e 120 g/m² de gramatura mínima; e suporte: 1) em madeira em duas das menores extremidades e acabamento com ponteira de PVC (grampeada) e corda trançada de no mínimo 4mm e de resistência suficiente e compatível com o banner; ou 2) Perfil C de plástico para acabamento de faixas e banners com 16 mm - e corda trançada de no mínimo 4mm e de resistência suficiente e compatível com o banner. DIMENSÕES | E9: 50 X 70cm | F9: 02-12 | G9: 50031-001 | H9: 339039.63 | I9: Unidade | J9: 10.01 | K9: 0 | L9: =IF(SUM(U9:AM9)>K9+N9,K9+N9,SUM(U9:AM9)) -> 0 | M9: =(SUM(U9:AM9)) -> 0 | O9: =ROUND(IF(K9*0.25-0.5<0,0,K9*0.25-0.5),0)-R9-P9 -> 0 | S9: =K9+N9+P9+Q9-M9 -> 0 | T9: =IF(S9<0,"ATENÇÃO","OK") -> OK
C10: 7 | E10: 90 X 120cm | F10: 02-12 | G10: 50031-001 | H10: 339039.63 | I10: Unidade | J10: 49.81 | K10: 0 | L10: =IF(SUM(U10:AM10)>K10+N10,K10+N10,SUM(U10:AM10)) -> 0 | M10: =(SUM(U10:AM10)) -> 0 | O10: =ROUND(IF(K10*0.25-0.5<0,0,K10*0.25-0.5),0)-R10-P10 -> 0 | S10: =K10+N10+P10+Q10-M10 -> 0 | T10: =IF(S10<0,"ATENÇÃO","OK") -> OK
A11: 3 | B11: ARAÇÁ MATERIAL PUBLICITARIO EIRELLI, CNPJ 16.600.308/0001-08 | C11: 8 | D11: Frontlight em lona, impressão digital 4x0 cores, resolução mínima 1200 dpi's e 440 g/m² de gramatura mínima; fixado com ilhóses dispostos de 20 em 20 cm, em ferro ou alumínio e de diâmetro compatível com a corda utilizada - corda trançada de no mínimo 4mm e de resistência suficiente e compatível com o frontlight. INSTALADO E RETIRADO. DIMENSÕES | E11: 255 X 275cm | F11: 02-12 | G11: 50031-001 | H11: 339039.63 339030.44 | I11: Unidade | J11: 199.83 | K11: 15 | L11: =IF(SUM(U11:AM11)>K11+N11,K11+N11,SUM(U11:AM11)) -> 6 | M11: =(SUM(U11:AM11)) -> 6 | O11: =ROUND(IF(K11*0.25-0.5<0,0,K11*0.25-0.5),0)-R11-P11 -> 3 | S11: =K11+N11+P11+Q11-M11 -> 9 | T11: =IF(S11<0,"ATENÇÃO","OK") -> OK | U11: =4-2 -> 2 | AF11: 4
C12: 9 | E12: 295 X 875cm | F12: 02-12 | G12: 50031-001 | H12: 339039.63 339030.44 | I12: Unidade | J12: 2456.99 | K12: 22 | L12: =IF(SUM(U12:AM12)>K12+N12,K12+N12,SUM(U12:AM12)) -> 18 | M12: =(SUM(U12:AM12)) -> 18 | O12: =ROUND(IF(K12*0.25-0.5<0,0,K12*0.25-0.5),0)-R12-P12 -> 5 | S12: =K12+N12+P12+Q12-M12 -> 4 | T12: =IF(S12<0,"ATENÇÃO","OK") -> OK | U12: 8 | AF12: 4 | AJ12: 6
C13: 10 | E13: 310 X 914cm | F13: 02-12 | G13: 50031-001 | H13: 339039.63 339030.44 | I13: Unidade | J13: 3000 | K13: 40 | L13: =IF(SUM(U13:AM13)>K13+N13,K13+N13,SUM(U13:AM13)) -> 31 | M13: =(SUM(U13:AM13)) -> 31 | O13: =ROUND(IF(K13*0.25-0.5<0,0,K13*0.25-0.5),0)-R13-P13 -> 10 | S13: =K13+N13+P13+Q13-M13 -> 9 | T13: =IF(S13<0,"ATENÇÃO","OK") -> OK | U13: =16-1 -> 15 | AF13: 8 | AJ13: 8
A14: 4 | B14: YNOV DISTRIBUICAO DE PRODUTOS LTDA ME CNPJ 38.903.127/0001-93 | C14: 11 | D14: Adesivo em vinil, impressão digital 4x0 cores, resolução mínima 300 dpi's e 26 a 30 g/m² de gramatura mínima de cola; acabamento meio corte especial com faca. DIMENSÕES | E14: 75cm X metro linear | F14: 02-12 | G14: 50031-001 | H14: 339039.63 339030.44 | I14: metro | J14: 29.86 | K14: 200 | L14: =IF(SUM(U14:AM14)>K14+N14,K14+N14,SUM(U14:AM14)) -> 114 | M14: =(SUM(U14:AM14)) -> 114 | N14: -38 | O14: =ROUND(IF(K14*0.25-0.5<0,0,K14*0.25-0.5),0)-R14-P14 -> 50 | S14: =K14+N14+P14+Q14-M14 -> 48 | T14: =IF(S14<0,"ATENÇÃO","OK") -> OK | W14: =80-48 -> 32 | AE14: 60 | AM14: 22 | AN14: =AM14*J14 -> 656.92
C15: 12 | E15: 99 x 44,5cm | F15: 02-12 | G15: 50031-001 | H15: 339039.63 339030.44 | I15: Unidade | J15: 17.93 | K15: 0 | L15: =IF(SUM(U15:AM15)>K15+N15,K15+N15,SUM(U15:AM15)) -> 0 | M15: =(SUM(U15:AM15)) -> 0 | O15: =ROUND(IF(K15*0.25-0.5<0,0,K15*0.25-0.5),0)-R15-P15 -> 0 | S15: =K15+N15+P15+Q15-M15 -> 0 | T15: =IF(S15<0,"ATENÇÃO","OK") -> OK
A16: 5 | B16: ARAÇÁ MATERIAL PUBLICITARIO EIRELLI CNPJ 16.600.308/0001-08 | C16: 13 | D16: Adesivo recortado em vinil colorido (cores diversas a escolher), para adesivagem. DIMENSÃO | E16: 90cm x metro linear | F16: 02-12 | G16: 50031-001 | H16: 339039.63 | I16: metro | J16: 43.49 | K16: 200 | L16: =IF(SUM(U16:AM16)>K16+N16,K16+N16,SUM(U16:AM16)) -> 0 | M16: =(SUM(U16:AM16)) -> 0 | O16: =ROUND(IF(K16*0.25-0.5<0,0,K16*0.25-0.5),0)-R16-P16 -> 50 | S16: =K16+N16+P16+Q16-M16 -> 200 | T16: =IF(S16<0,"ATENÇÃO","OK") -> OK
A17: 6 | B17: VIXCARD COMERCIO, SERVICOS E IMPORTACAO DE ARTIGOS PARA IDENTIFICACAO LTDA CNPJ 02.583.967/0001-79 | C17: 14 | D17: Crachá em cartão PVC laminado branco, impressão digital 4x1 cores, resolução mínima 300 dpi's e espessura de 0,70 a 0,80mm cantos arredondados, com perfuração entre 15 a 20mm compatível com grampo de metal tipo jacaré do cordão. Deverá acompanhar o desenvolvimento da arte para aprovação pela UDESC. Acompanha cordão para crachá personalizado em impressão digital, com grampo de metal tipo jacaré, em 100% poliéster. Crachá 5,4 X 8,60cm , cordão 1,3 a 1,6 X 80 a 90cm | E17: Crachá c/ cordão | F17: 02-12 | G17: 50031-001 | H17: 339039.63 | I17: Unidade | J17: 10.5 | K17: 300 | L17: =IF(SUM(U17:AM17)>K17+N17,K17+N17,SUM(U17:AM17)) -> 0 | M17: =(SUM(U17:AM17)) -> 0 | N17: -250 | O17: =ROUND(IF(K17*0.25-0.5<0,0,K17*0.25-0.5),0)-R17-P17 -> 75 | S17: =K17+N17+P17+Q17-M17 -> 50 | T17: =IF(S17<0,"ATENÇÃO","OK") -> OK
A18: 7 | B18: GALERIA 23 COMUNICAÇÃO VISUAL E GRÁFICA CNPJ 51.257.431/0001-79 | C18: 15 | D18: Placa em PVC branco, impressão digital 4x0 cores, resolução mínima 300 dpi's e espessura de 2mm, com fixação dupla face de espuma acrílica para ambiente externo de no mínimo 20mm de largura e de no mínimo 10cm de tamanho para cada 150g de placa. | E18: 200 X 100cm | F18: 02-12 | G18: 50031-001 | H18: 339039.63 | I18: Unidade | J18: 151.96 | K18: 100 | L18: =IF(SUM(U18:AM18)>K18+N18,K18+N18,SUM(U18:AM18)) -> 0 | M18: =(SUM(U18:AM18)) -> 0 | O18: =ROUND(IF(K18*0.25-0.5<0,0,K18*0.25-0.5),0)-R18-P18 -> 25 | S18: =K18+N18+P18+Q18-M18 -> 100 | T18: =IF(S18<0,"ATENÇÃO","OK") -> OK
A19: 8 | B19: YNOV DISTRIBUICAO DE PRODUTOS LTDA ME CNPJ 38.903.127/0001-93 | C19: 16 | D19: Placa em PVC, branca, impressão digital 4x0 cores, resolução mínima 300dpi's e espessura de 2mm, acabamento corte a laser, inclui adequação de layout, instalada com fita. | E19: 70 x 35cm | F19: 02-12 | G19: 50031-001 | H19: 339039.63 | I19: Unidade | J19: 53.55 | K19: 200 | L19: =IF(SUM(U19:AM19)>K19+N19,K19+N19,SUM(U19:AM19)) -> 0 | M19: =(SUM(U19:AM19)) -> 0 | N19: -53 | O19: =ROUND(IF(K19*0.25-0.5<0,0,K19*0.25-0.5),0)-R19-P19 -> 50 | S19: =K19+N19+P19+Q19-M19 -> 147 | T19: =IF(S19<0,"ATENÇÃO","OK") -> OK
C20: 17 | E20: 14 x 14cm | F20: 02-12 | G20: 50031-001 | H20: 339039.63 | I20: Unidade | J20: 7.35 | K20: 100 | L20: =IF(SUM(U20:AM20)>K20+N20,K20+N20,SUM(U20:AM20)) -> 0 | M20: =(SUM(U20:AM20)) -> 0 | O20: =ROUND(IF(K20*0.25-0.5<0,0,K20*0.25-0.5),0)-R20-P20 -> 25 | S20: =K20+N20+P20+Q20-M20 -> 100 | T20: =IF(S20<0,"ATENÇÃO","OK") -> OK
A21: 9 | B21: FONTANA & JOAQUIM LTDA CNPJ 31.381.381/0001-20 | C21: 18 | D21: CARTAZ. Formato 30 (largura) x 40 (altura) cm; Impresso em papel fotográfico de alta qualidade, brilho, com gramatura 200g; qualidade de impressão de pelo menos 300 DPIs; Impressão colorida 4 cores - impressão só frente (sem verso) | E21: 30 x 40 cm | F21: 02-12 | G21: 50031-001 | H21: 339039.63 | I21: Peça | J21: 10.85 | K21: 0 | L21: =IF(SUM(U21:AM21)>K21+N21,K21+N21,SUM(U21:AM21)) -> 0 | M21: =(SUM(U21:AM21)) -> 0 | O21: =ROUND(IF(K21*0.25-0.5<0,0,K21*0.25-0.5),0)-R21-P21 -> 0 | S21: =K21+N21+P21+Q21-M21 -> 0 | T21: =IF(S21<0,"ATENÇÃO","OK") -> OK
A22: 10 | B22: FONTANA & JOAQUIM LTDA CNPJ 31.381.381/0001-20 | C22: 19 | D22: CARTÃO DE VISITA; FORMATO = 9 (largura) X 5 (altura) cm; Papel Couchê Fosco, com gramatura 240 G; COR DE IMPRESSÃO 4 CORES (Colorido) - impressão frente e verso | E22: 100 a 500 un. | F22: 02-12 | G22: 50031-001 | H22: 339039.63 | I22: Cartão | J22: 0.71 | K22: 10000 | L22: =IF(SUM(U22:AM22)>K22+N22,K22+N22,SUM(U22:AM22)) -> 2000 | M22: =(SUM(U22:AM22)) -> 2000 | O22: =ROUND(IF(K22*0.25-0.5<0,0,K22*0.25-0.5),0)-R22-P22 -> 2500 | S22: =K22+N22+P22+Q22-M22 -> 8000 | T22: =IF(S22<0,"ATENÇÃO","OK") -> OK | AL22: 2000
A23: 11 | B23: FONTANA & JOAQUIM LTDA CNPJ 31.381.381/0001-20 | C23: 20 | D23: CARTAZ FORMATO A2; FORMATO A2 = 42 (largura) x 60 (altura) cm; Papel Couchê Brilho, com gramatura 115 G; COR DE IMPRESSÃO 4 CORES (Colorido) - impressão só frente (sem verso) | E23: até 100 un. | F23: 02-12 | G23: 50031-001 | H23: 339039.63 339030.16 | I23: Cartaz | J23: 21.18 | K23: 2000 | L23: =IF(SUM(U23:AM23)>K23+N23,K23+N23,SUM(U23:AM23)) -> 0 | M23: =(SUM(U23:AM23)) -> 0 | O23: =ROUND(IF(K23*0.25-0.5<0,0,K23*0.25-0.5),0)-R23-P23 -> 500 | S23: =K23+N23+P23+Q23-M23 -> 2000 | T23: =IF(S23<0,"ATENÇÃO","OK") -> OK
C24: 21 | E24: 101 a 500 un. | F24: 02-12 | G24: 50031-001 | H24: 339039.63 339030.16 | I24: Cartaz | J24: 5.59 | K24: 12000 | L24: =IF(SUM(U24:AM24)>K24+N24,K24+N24,SUM(U24:AM24)) -> 2100 | M24: =(SUM(U24:AM24)) -> 2100 | O24: =ROUND(IF(K24*0.25-0.5<0,0,K24*0.25-0.5),0)-R24-P24 -> 3000 | S24: =K24+N24+P24+Q24-M24 -> 9900 | T24: =IF(S24<0,"ATENÇÃO","OK") -> OK | X24: 2100
A25: 12 | B25: MULTYGRAFHIC EDITORA LTDA CNPJ 34.382.012/0001-40 | C25: 22 | D25: CARTAZ FORMATO A3; FORMATO A3 = 30 (largura) x 42 (altura) cm; Papel Couchê Brilho, com gramatura 115 G; COR DE IMPRESSÃO 4 CORES (Colorido) - impressão só frente (sem verso) | E25: até 100 un. | F25: 02-12 | G25: 50031-001 | H25: 339039.63 339030.16 | I25: Cartaz | J25: 3.4 | K25: 2000 | L25: =IF(SUM(U25:AM25)>K25+N25,K25+N25,SUM(U25:AM25)) -> 100 | M25: =(SUM(U25:AM25)) -> 100 | O25: =ROUND(IF(K25*0.25-0.5<0,0,K25*0.25-0.5),0)-R25-P25 -> 500 | S25: =K25+N25+P25+Q25-M25 -> 1900 | T25: =IF(S25<0,"ATENÇÃO","OK") -> OK | AI25: 100
C26: 23 | E26: 101 a 500 un. | F26: 02-12 | G26: 50031-001 | H26: 339039.63 339030.16 | I26: Cartaz | J26: 1.8 | K26: 12000 | L26: =IF(SUM(U26:AM26)>K26+N26,K26+N26,SUM(U26:AM26)) -> 9870 | M26: =(SUM(U26:AM26)) -> 9870 | O26: =ROUND(IF(K26*0.25-0.5<0,0,K26*0.25-0.5),0)-R26-P26 -> 3000 | S26: =K26+N26+P26+Q26-M26 -> 2130 | T26: =IF(S26<0,"ATENÇÃO","OK") -> OK | Y26: 2000 | AA26: 370 | AG26: 3500 | AK26: 4000
A27: 13 | B27: MULTYGRAFHIC EDITORA LTDA CNPJ 34.382.012/0001-40 | C27: 24 | D27: FLYER FRENTE E VERSO; FORMATO A5 = 15 (largura) X 21 (altura) cm; Papel Couchê Brilho, com gramatura 115 G; COR DE IMPRESSÃO 4 CORES (Colorido) - impressão frente e verso | E27: 100 a 1.000 un. | F27: 02-12 | G27: 50031-001 | H27: 339039.63 339030.16 | I27: Flyer | J27: 0.33 | K27: 5000 | L27: =IF(SUM(U27:AM27)>K27+N27,K27+N27,SUM(U27:AM27)) -> 0 | M27: =(SUM(U27:AM27)) -> 0 | O27: =ROUND(IF(K27*0.25-0.5<0,0,K27*0.25-0.5),0)-R27-P27 -> 1250 | S27: =K27+N27+P27+Q27-M27 -> 5000 | T27: =IF(S27<0,"ATENÇÃO","OK") -> OK
C28: 25 | E28: acima de 1.001 un. | F28: 02-12 | G28: 50031-001 | H28: 339039.63 339030.16 | I28: Flyer | J28: 0.19 | K28: 40000 | L28: =IF(SUM(U28:AM28)>K28+N28,K28+N28,SUM(U28:AM28)) -> 134018 | M28: =(SUM(U28:AM28)) -> 134018 | N28: =55000+40000 -> 95000 | O28: =ROUND(IF(K28*0.25-0.5<0,0,K28*0.25-0.5),0)-R28-P28 -> 10000 | S28: =K28+N28+P28+Q28-M28 -> 982 | T28: =IF(S28<0,"ATENÇÃO","OK") -> OK | Y28: 60500 | AA28: 1010 | AD28: 3000 | AG28: 41508 | AK28: 28000
A29: 14 | B29: MULTYGRAFHIC EDITORA LTDA CNPJ 34.382.012/0001-40 | C29: 26 | D29: FOLDER FRENTE E VERSO; FORMATO A4 = 29,7 (largura) X 21 (altura) cm; Papel Couchê Brilho ou Fosco, com gramatura 115 G; COR DE IMPRESSÃO 4 CORES (Colorido) - impressão frente e verso. Com UMA dobra. | E29: 100 a 1.000 un. | F29: 02-12 | G29: 50031-001 | H29: 339039.63 339030.16 | I29: Peça | J29: 0.3 | K29: 10000 | L29: =IF(SUM(U29:AM29)>K29+N29,K29+N29,SUM(U29:AM29)) -> 0 | M29: =(SUM(U29:AM29)) -> 0 | O29: =ROUND(IF(K29*0.25-0.5<0,0,K29*0.25-0.5),0)-R29-P29 -> 2500 | S29: =K29+N29+P29+Q29-M29 -> 10000 | T29: =IF(S29<0,"ATENÇÃO","OK") -> OK
C30: 27 | E30: acima de 1.001 un. | F30: 02-12 | G30: 50031-001 | H30: 339039.63 339030.16 | I30: Peça | J30: 0.25 | K30: 20000 | L30: =IF(SUM(U30:AM30)>K30+N30,K30+N30,SUM(U30:AM30)) -> 20000 | M30: =(SUM(U30:AM30)) -> 20000 | O30: =ROUND(IF(K30*0.25-0.5<0,0,K30*0.25-0.5),0)-R30-P30 -> 5000 | S30: =K30+N30+P30+Q30-M30 -> 0 | T30: =IF(S30<0,"ATENÇÃO","OK") -> OK | Z30: =20000-5996 -> 14004 | AK30: 5996
A31: 15 | B31: FONTANA & JOAQUIM LTDA CNPJ 31.381.381/0001-20 | C31: 28 | D31: FOLDER. Formato aberto: 39 X 28 cm; cor de impressão 4 cores (colorido - impressão frente e verso); papel couchê fosco, gramatura 150g; acabamento: folder dobrado em 3 partes iguais. DUAS dobras | E31: 100 a 1.000 un. | F31: 02-12 | G31: 50031-001 | H31: 339039.63 339030.16 | I31: Peça | J31: 1.3 | K31: 10000 | L31: =IF(SUM(U31:AM31)>K31+N31,K31+N31,SUM(U31:AM31)) -> 0 | M31: =(SUM(U31:AM31)) -> 0 | O31: =ROUND(IF(K31*0.25-0.5<0,0,K31*0.25-0.5),0)-R31-P31 -> 2500 | S31: =K31+N31+P31+Q31-M31 -> 10000 | T31: =IF(S31<0,"ATENÇÃO","OK") -> OK
C32: 29 | E32: acima de 1.001 un. | H32: 339039.63 339030.16 | I32: Peça | J32: 0.3 | K32: 20000 | L32: =IF(SUM(U32:AM32)>K32+N32,K32+N32,SUM(U32:AM32)) -> 0 | M32: =(SUM(U32:AM32)) -> 0 | O32: =ROUND(IF(K32*0.25-0.5<0,0,K32*0.25-0.5),0)-R32-P32 -> 5000 | S32: =K32+N32+P32+Q32-M32 -> 20000 | T32: =IF(S32<0,"ATENÇÃO","OK") -> OK | X32: =10000-10000 -> 0
A33: 16 | B33: VIXCARD COMERCIO, SERVICOS E IMPORTACAO DE ARTIGOS PARA IDENTIFICACAO LTDA CNPJ 02.583.967/0001-79 | C33: 30 | D33: Confecção de crachás credencial e cordão personalizados com dados variáveis. CREDENCIAL: pvc, tamanho 9-10 x 14-15 cm em apresentação vertical ou horizontal, cores 4x4, resolução mínima 300 dpi's, borda arredondada, furo central ovoide. CORDÃO: personalizado, poliester acetinado, largura entre 2 e 3 cm e comprimento de 85 cm, acabamento em jacaré. Deverá acompanhar o desenvolvimento da arte para aprovação pela UDESC | E33: 14-15 x 9-10 cm | F33: 02-12 | G33: 50031-001 | H33: 339039.63 | I33: Peça | J33: 7.8 | L33: =IF(SUM(U33:AM33)>K33+N33,K33+N33,SUM(U33:AM33)) -> 0 | M33: =(SUM(U33:AM33)) -> 0 | O33: =ROUND(IF(K33*0.25-0.5<0,0,K33*0.25-0.5),0)-R33-P33 -> 0 | S33: =K33+N33+P33+Q33-M33 -> 0 | T33: =IF(S33<0,"ATENÇÃO","OK") -> OK
A34: 17 | B34: MULTYGRAFHIC EDITORA LTDA CNPJ 34.382.012/0001-40 | C34: 31 | D34: Minifolder de Bolso. Papel Offset 240 g/m². Formato fechado: 70 x 95 mm. Formato aberto: 425 x 95 mm. Cores: 4 x 4 cores Manuseio: 5 dobras paralelas, refilo. Acabamento: laminação fosca | E34: até 1.000 un. | H34: 339039.63 | I34: Peça | J34: 1.5 | K34: 2000 | L34: =IF(SUM(U34:AM34)>K34+N34,K34+N34,SUM(U34:AM34)) -> 0 | M34: =(SUM(U34:AM34)) -> 0 | O34: =ROUND(IF(K34*0.25-0.5<0,0,K34*0.25-0.5),0)-R34-P34 -> 500 | S34: =K34+N34+P34+Q34-M34 -> 2000 | T34: =IF(S34<0,"ATENÇÃO","OK") -> OK
C35: 32 | E35: 5000 un. | H35: 339039.63 | I35: Peça | J35: 0.9 | K35: 5000 | L35: =IF(SUM(U35:AM35)>K35+N35,K35+N35,SUM(U35:AM35)) -> 0 | M35: =(SUM(U35:AM35)) -> 0 | O35: =ROUND(IF(K35*0.25-0.5<0,0,K35*0.25-0.5),0)-R35-P35 -> 1250 | S35: =K35+N35+P35+Q35-M35 -> 5000 | T35: =IF(S35<0,"ATENÇÃO","OK") -> OK
K36: =SUM(K4:K35) -> 151377 | S36: =SUM(S4:S35) -> 77661 | U36: =SUMPRODUCT($J$4:$J$35,U4:U35) -> 65055.58 | V36: =SUMPRODUCT($J$4:$J$35,V4:V35) -> 270.8 | W36: =SUMPRODUCT($J$4:$J$35,W4:W35) -> 955.52 | X36: =SUMPRODUCT($J$4:$J$35,X4:X35) -> 11739 | Y36: =SUMPRODUCT($J$4:$J$35,Y4:Y35) -> 15095 | Z36: =SUMPRODUCT($J$4:$J$35,Z4:Z35) -> 3501 | AA36: =SUMPRODUCT($J$4:$J$35,AA4:AA35) -> 857.9 | AB36: =SUMPRODUCT($J$4:$J$35,AB4:AB35) -> 976.16 | ... AM36: =SUMPRODUCT($J$4:$J$35,AM4:AM35) -> 1841.01

Sheet PROEX
A1: PROCESSO: PE 630/2025 - SGPE 52651/2024 | D1: OBJETO: Contratação de empresa especializada em Serviços Gráficos (IMPRESSOS ADAPTADOS, BANNERS, ADESIVOS, ENTRE OUTROS) – TODA UDESC | K1: VIGÊNCIA DA ATA: 29/05/2025 até 29/05/2026 | U1: OS nº 983/2025 Qtde. DT | V1: AF nº 1289/2025 Qtde. DT | W1: AF nº 1336/2025 Qtde. DT | X1: AF nº 1337/2025 Qtde. DT | Y1: AF nº 1956/2025 Qtde. DT | Z1: AF nº 2008/2025 Qtde. DT | AA1: AF nº 2438/2025 Qtde. DT | AB1: AF nº 2736/2025 Qtde. DT | AC1: AF nº 2882/2025 Qtde. DT | AD1: AF nº 346/2026 Qtde. DT | AE1: AF nº XXXX/2025 Qtde. DT | AF1: AF nº XXXX/2025 Qtde. DT | AG1: AF nº XXXX/2025 Qtde. DT | AH1: AF nº XXXX/2025 Qtde. DT
A2: CENTRO PARTICIPANTE: REITORIA/PROEX | K2: OBS: VALOR MÍNIMO DA OS: R$ 300,00
A3: Lote | B3: Empresa | C3: Item | D3: Especificação | E3: Dimensões | F3: Grupo-Classe | G3: Código NUC | H3: Detalhamento | I3: Unidade | J3: Preço Unitário | K3: Qtde Registrada | L3: QUANTIDADE UTILIZADA da Ata | M3: QUANTIDADE UTILIZADA Total | N3: Quantidade Receb/Cedida | O3: QUANTIDADE DISPONÍVEL PARA ADITIVAR | P3: Quantidade Aditivada Própria | Q3: Quantidade Aditivos recebidos | R3: Quantidade Aditivos cedidos | S3: Saldo / Automático | T3: ALERTA | U3: 45813 | V3: 45849 | W3: 45855 | X3: 45855 | Y3: 45931 | Z3: 45933 | AA3: 45966 | AB3: 45985 | AC3: 45993 | AD3: 46092 | AE3: ...../...../...... | AF3: ...../...../...... | AG3: ...../...../...... | AH3: ...../...../......
A4: 1 | B4: YNOV DISTRIBUICAO DE PRODUTOS LTDA ME, CNPJ 38.903.127/0001-93 | C4: 1 | D4: Banner em lona, impressão digital 4x0 cores, resolução mínima 720 dpi's e 280 g/m² de gramatura mínima; e suporte: 1) em madeira em duas das menores extremidades e acabamento com ponteira de PVC (grampeada) e corda trançada de no mínimo 4mm e de resistência suficiente e compatível com o banner; ou 2) com ilhóses dispostos de 20 em 20 cm, em ferro ou alumínio e de diâmetro compatível com a corda utilizada - corda trançada de no mínimo 4mm e de resistência suficiente e compatível com o banner. DIMENSÕES | E4: 50 X 70cm | F4: 02-12 | G4: 50031-001 | H4: 339039.63 339030.16 | I4: Unidade | J4: 11.07 | K4: 5 | L4: =IF(SUM(U4:AK4)>K4+N4,K4+N4,SUM(U4:AK4)) -> 0 | M4: =(SUM(U4:AK4)) -> 0 | N4: =-5 -> -5 | O4: =ROUND(IF(K4*0.25-0.5<0,0,K4*0.25-0.5),0)-R4-P4 -> 1 | S4: =K4+N4+P4+Q4-M4 -> 0 | T4: =IF(S4<0,"ATENÇÃO","OK") -> OK
C5: 2 | E5: 90 X 150cm | F5: 02-12 | G5: 50031-001 | H5: 339039.63 339030.16 | I5: Unidade | J5: 35.35 | K5: 50 | L5: =IF(SUM(U5:AK5)>K5+N5,K5+N5,SUM(U5:AK5)) -> 16 | M5: =(SUM(U5:AK5)) -> 16 | O5: =ROUND(IF(K5*0.25-0.5<0,0,K5*0.25-0.5),0)-R5-P5 -> 12 | S5: =K5+N5+P5+Q5-M5 -> 34 | T5: =IF(S5<0,"ATENÇÃO","OK") -> OK | Z5: 16
C6: 3 | E6: 110 X 150cm | F6: 02-12 | G6: 50031-001 | H6: 339039.63 339030.16 | I6: Unidade | J6: 43 | K6: 10 | L6: =IF(SUM(U6:AK6)>K6+N6,K6+N6,SUM(U6:AK6)) -> 0 | M6: =(SUM(U6:AK6)) -> 0 | O6: =ROUND(IF(K6*0.25-0.5<0,0,K6*0.25-0.5),0)-R6-P6 -> 2 | S6: =K6+N6+P6+Q6-M6 -> 10 | T6: =IF(S6<0,"ATENÇÃO","OK") -> OK
C7: 4 | E7: 130 X 180cm | F7: 02-12 | G7: 50031-001 | H7: 339039.63 339030.16 | I7: Unidade | J7: 61.01 | K7: 35 | L7: =IF(SUM(U7:AK7)>K7+N7,K7+N7,SUM(U7:AK7)) -> 0 | M7: =(SUM(U7:AK7)) -> 0 | N7: =-1 -> -1 | O7: =ROUND(IF(K7*0.25-0.5<0,0,K7*0.25-0.5),0)-R7-P7 -> 8 | S7: =K7+N7+P7+Q7-M7 -> 34 | T7: =IF(S7<0,"ATENÇÃO","OK") -> OK
C8: 5 | E8: 80 X 120cm | F8: 02-12 | G8: 50031-001 | H8: 339039.63 339030.16 | I8: Unidade | J8: 26.25 | K8: 980 | L8: =IF(SUM(U8:AK8)>K8+N8,K8+N8,SUM(U8:AK8)) -> 77 | M8: =(SUM(U8:AK8)) -> 77 | O8: =ROUND(IF(K8*0.25-0.5<0,0,K8*0.25-0.5),0)-R8-P8 -> 245 | S8: =K8+N8+P8+Q8-M8 -> 903 | T8: =IF(S8<0,"ATENÇÃO","OK") -> OK | V8: 19 | Z8: 46 | AA8: 12
A9: 2 | B9: ARAÇÁ MATERIAL PUBLICITARIO EIRELLI CNPJ 16.600.308/0001-08 | C9: 6 | D9: Banner em papel sulfite - impressão digital 4x0 cores, resolução mínima 720 dpi's e 120 g/m² de gramatura mínima; e suporte: 1) em madeira em duas das menores extremidades e acabamento com ponteira de PVC (grampeada) e corda trançada de no mínimo 4mm e de resistência suficiente e compatível com o banner; ou 2) Perfil C de plástico para acabamento de faixas e banners com 16 mm - e corda trançada de no mínimo 4mm e de resistência suficiente e compatível com o banner. DIMENSÕES | E9: 50 X 70cm | F9: 02-12 | G9: 50031-001 | H9: 339039.63 | I9: Unidade | J9: 10.01 | K9: 20 | L9: =IF(SUM(U9:AK9)>K9+N9,K9+N9,SUM(U9:AK9)) -> 0 | M9: =(SUM(U9:AK9)) -> 0 | O9: =ROUND(IF(K9*0.25-0.5<0,0,K9*0.25-0.5),0)-R9-P9 -> 5 | S9: =K9+N9+P9+Q9-M9 -> 20 | T9: =IF(S9<0,"ATENÇÃO","OK") -> OK
C10: 7 | E10: 90 X 120cm | F10: 02-12 | G10: 50031-001 | H10: 339039.63 | I10: Unidade | J10: 49.81 | K10: 20 | L10: =IF(SUM(U10:AK10)>K10+N10,K10+N10,SUM(U10:AK10)) -> 0 | M10: =(SUM(U10:AK10)) -> 0 | O10: =ROUND(IF(K10*0.25-0.5<0,0,K10*0.25-0.5),0)-R10-P10 -> 5 | S10: =K10+N10+P10+Q10-M10 -> 20 | T10: =IF(S10<0,"ATENÇÃO","OK") -> OK
A11: 3 | B11: ARAÇÁ MATERIAL PUBLICITARIO EIRELLI CNPJ 16.600.308/0001-08 | C11: 8 | D11: Frontlight em lona, impressão digital 4x0 cores, resolução mínima 1200 dpi's e 440 g/m² de gramatura mínima; fixado com ilhóses dispostos de 20 em 20 cm, em ferro ou alumínio e de diâmetro compatível com a corda utilizada - corda trançada de no mínimo 4mm e de resistência suficiente e compatível com o frontlight. INSTALADO E RETIRADO. DIMENSÕES | E11: 255 X 275cm | F11: 02-12 | G11: 50031-001 | H11: 339039.63 339030.44 | I11: Unidade | J11: 199.83 | K11: 5 | L11: =IF(SUM(U11:AK11)>K11+N11,K11+N11,SUM(U11:AK11)) -> 5 | M11: =(SUM(U11:AK11)) -> 5 | O11: =ROUND(IF(K11*0.25-0.5<0,0,K11*0.25-0.5),0)-R11-P11 -> 1 | S11: =K11+N11+P11+Q11-M11 -> 0 | T11: =IF(S11<0,"ATENÇÃO","OK") -> OK | W11: 2 | AC11: 3
C12: 9 | E12: 295 X 875cm | F12: 02-12 | G12: 50031-001 | H12: 339039.63 339030.44 | I12: Unidade | J12: 2456.99 | K12: 5 | L12: =IF(SUM(U12:AK12)>K12+N12,K12+N12,SUM(U12:AK12)) -> 0 | M12: =(SUM(U12:AK12)) -> 0 | O12: =ROUND(IF(K12*0.25-0.5<0,0,K12*0.25-0.5),0)-R12-P12 -> 1 | S12: =K12+N12+P12+Q12-M12 -> 5 | T12: =IF(S12<0,"ATENÇÃO","OK") -> OK
C13: 10 | E13: 310 X 914cm | F13: 02-12 | G13: 50031-001 | H13: 339039.63 339030.44 | I13: Unidade | J13: 3000 | K13: 5 | L13: =IF(SUM(U13:AK13)>K13+N13,K13+N13,SUM(U13:AK13)) -> 4 | M13: =(SUM(U13:AK13)) -> 4 | O13: =ROUND(IF(K13*0.25-0.5<0,0,K13*0.25-0.5),0)-R13-P13 -> 1 | S13: =K13+N13+P13+Q13-M13 -> 1 | T13: =IF(S13<0,"ATENÇÃO","OK") -> OK | AC13: 4
A14: 4 | B14: YNOV DISTRIBUICAO DE PRODUTOS LTDA ME CNPJ 38.903.127/0001-93 | C14: 11 | D14: Adesivo em vinil, impressão digital 4x0 cores, resolução mínima 300 dpi's e 26 a 30 g/m² de gramatura mínima de cola; acabamento meio corte especial com faca. DIMENSÕES | E14: 75cm X metro linear | F14: 02-12 | G14: 50031-001 | H14: 339039.63 | I14: metro | J14: 29.86 | K14: 25 | L14: =IF(SUM(U14:AK14)>K14+N14,K14+N14,SUM(U14:AK14)) -> 0 | M14: =(SUM(U14:AK14)) -> 0 | O14: =ROUND(IF(K14*0.25-0.5<0,0,K14*0.25-0.5),0)-R14-P14 -> 6 | S14: =K14+N14+P14+Q14-M14 -> 25 | T14: =IF(S14<0,"ATENÇÃO","OK") -> OK
C15: 12 | E15: 99 x 44,5cm | F15: 02-12 | G15: 50031-001 | H15: 339039.63 | I15: Unidade | J15: 17.93 | K15: 15 | L15: =IF(SUM(U15:AK15)>K15+N15,K15+N15,SUM(U15:AK15)) -> 0 | M15: =(SUM(U15:AK15)) -> 0 | O15: =ROUND(IF(K15*0.25-0.5<0,0,K15*0.25-0.5),0)-R15-P15 -> 3 | S15: =K15+N15+P15+Q15-M15 -> 15 | T15: =IF(S15<0,"ATENÇÃO","OK") -> OK
A16: 5 | B16: ARAÇÁ MATERIAL PUBLICITARIO EIRELLI CNPJ 16.600.308/0001-08 | C16: 13 | D16: Adesivo recortado em vinil colorido (cores diversas a escolher), para adesivagem. DIMENSÃO | E16: 90cm x metro linear | F16: 02-12 | G16: 50031-001 | H16: 339039.63 | I16: metro | J16: 43.49 | K16: 20 | L16: =IF(SUM(U16:AK16)>K16+N16,K16+N16,SUM(U16:AK16)) -> 0 | M16: =(SUM(U16:AK16)) -> 0 | N16: =-4 -> -4 | O16: =ROUND(IF(K16*0.25-0.5<0,0,K16*0.25-0.5),0)-R16-P16 -> 5 | S16: =K16+N16+P16+Q16-M16 -> 16 | T16: =IF(S16<0,"ATENÇÃO","OK") -> OK
A17: 6 | B17: VIXCARD COMERCIO, SERVICOS E IMPORTACAO DE ARTIGOS PARA IDENTIFICACAO LTDA CNPJ 02.583.967/0001-79 | C17: 14 | D17: Crachá em cartão PVC laminado branco, impressão digital 4x1 cores, resolução mínima 300 dpi's e espessura de 0,70 a 0,80mm cantos arredondados, com perfuração entre 15 a 20mm compatível com grampo de metal tipo jacaré do cordão. Deverá acompanhar o desenvolvimento da arte para aprovação pela UDESC. Acompanha cordão para crachá personalizado em impressão digital, com grampo de metal tipo jacaré, em 100% poliéster. Crachá 5,4 X 8,60cm , cordão 1,3 a 1,6 X 80 a 90cm | E17: Crachá c/ cordão | F17: 02-12 | G17: 50031-001 | H17: 339039.63 | I17: Unidade | J17: 10.5 | K17: 50 | L17: =IF(SUM(U17:AK17)>K17+N17,K17+N17,SUM(U17:AK17)) -> 0 | M17: =(SUM(U17:AK17)) -> 0 | N17: =-9 -> -9 | O17: =ROUND(IF(K17*0.25-0.5<0,0,K17*0.25-0.5),0)-R17-P17 -> 12 | S17: =K17+N17+P17+Q17-M17 -> 41 | T17: =IF(S17<0,"ATENÇÃO","OK") -> OK
A18: 7 | B18: GALERIA 23 COMUNICAÇÃO VISUAL E GRÁFICA CNPJ 51.257.431/0001-79 | C18: 15 | D18: Placa em PVC branco, impressão digital 4x0 cores, resolução mínima 300 dpi's e espessura de 2mm, com fixação dupla face de espuma acrílica para ambiente externo de no mínimo 20mm de largura e de no mínimo 10cm de tamanho para cada 150g de placa. | E18: 200 X 100cm | F18: 02-12 | G18: 50031-001 | H18: 339039.63 | I18: Unidade | J18: 151.96 | K18: 10 | L18: =IF(SUM(U18:AK18)>K18+N18,K18+N18,SUM(U18:AK18)) -> 0 | M18: =(SUM(U18:AK18)) -> 0 | O18: =ROUND(IF(K18*0.25-0.5<0,0,K18*0.25-0.5),0)-R18-P18 -> 2 | S18: =K18+N18+P18+Q18-M18 -> 10 | T18: =IF(S18<0,"ATENÇÃO","OK") -> OK
A19: 8 | B19: YNOV DISTRIBUICAO DE PRODUTOS LTDA ME CNPJ 38.903.127/0001-93 | C19: 16 | D19: Placa em PVC, branca, impressão digital 4x0 cores, resolução mínima 300dpi's e espessura de 2mm, acabamento corte a laser, inclui adequação de layout, instalada com fita. | E19: 70 x 35cm | F19: 02-12 | G19: 50031-001 | H19: 339039.63 | I19: Unidade | J19: 53.55 | K19: 60 | L19: =IF(SUM(U19:AK19)>K19+N19,K19+N19,SUM(U19:AK19)) -> 0 | M19: =(SUM(U19:AK19)) -> 0 | O19: =ROUND(IF(K19*0.25-0.5<0,0,K19*0.25-0.5),0)-R19-P19 -> 15 | S19: =K19+N19+P19+Q19-M19 -> 60 | T19: =IF(S19<0,"ATENÇÃO","OK") -> OK
C20: 17 | E20: 14 x 14cm | F20: 02-12 | G20: 50031-001 | H20: 339039.63 | I20: Unidade | J20: 7.35 | K20: 0 | L20: =IF(SUM(U20:AK20)>K20+N20,K20+N20,SUM(U20:AK20)) -> 0 | M20: =(SUM(U20:AK20)) -> 0 | O20: =ROUND(IF(K20*0.25-0.5<0,0,K20*0.25-0.5),0)-R20-P20 -> 0 | S20: =K20+N20+P20+Q20-M20 -> 0 | T20: =IF(S20<0,"ATENÇÃO","OK") -> OK
A21: 9 | B21: FONTANA & JOAQUIM LTDA CNPJ 31.381.381/0001-20 | C21: 18 | D21: CARTAZ. Formato 30 (largura) x 40 (altura) cm; Impresso em papel fotográfico de alta qualidade, brilho, com gramatura 200g; qualidade de impressão de pelo menos 300 DPIs; Impressão colorida 4 cores - impressão só frente (sem verso) | E21: 30 x 40 cm | F21: 02-12 | G21: 50031-001 | H21: 339039.63 | I21: Peça | J21: 10.85 | K21: 0 | L21: =IF(SUM(U21:AK21)>K21+N21,K21+N21,SUM(U21:AK21)) -> 0 | M21: =(SUM(U21:AK21)) -> 0 | O21: =ROUND(IF(K21*0.25-0.5<0,0,K21*0.25-0.5),0)-R21-P21 -> 0 | S21: =K21+N21+P21+Q21-M21 -> 0 | T21: =IF(S21<0,"ATENÇÃO","OK") -> OK
A22: 10 | B22: FONTANA & JOAQUIM LTDA CNPJ 31.381.381/0001-20 | C22: 19 | D22: CARTÃO DE VISITA; FORMATO = 9 (largura) X 5 (altura) cm; Papel Couchê Fosco, com gramatura 240 G; COR DE IMPRESSÃO 4 CORES (Colorido) - impressão frente e verso | E22: 100 a 500 un. | F22: 02-12 | G22: 50031-001 | H22: 339039.63 | I22: Cartão | J22: 0.71 | K22: 400 | L22: =IF(SUM(U22:AK22)>K22+N22,K22+N22,SUM(U22:AK22)) -> 0 | M22: =(SUM(U22:AK22)) -> 0 | N22: =-300 -> -300 | O22: =ROUND(IF(K22*0.25-0.5<0,0,K22*0.25-0.5),0)-R22-P22 -> 100 | S22: =K22+N22+P22+Q22-M22 -> 100 | T22: =IF(S22<0,"ATENÇÃO","OK") -> OK
A23: 11 | B23: FONTANA & JOAQUIM LTDA CNPJ 31.381.381/0001-20 | C23: 20 | D23: CARTAZ FORMATO A2; FORMATO A2 = 42 (largura) x 60 (altura) cm; Papel Couchê Brilho, com gramatura 115 G; COR DE IMPRESSÃO 4 CORES (Colorido) - impressão só frente (sem verso) | E23: até 100 un. | F23: 02-12 | G23: 50031-001 | H23: 339039.63 | I23: Cartaz | J23: 21.18 | K23: 0 | L23: =IF(SUM(U23:AK23)>K23+N23,K23+N23,SUM(U23:AK23)) -> 0 | M23: =(SUM(U23:AK23)) -> 0 | O23: =ROUND(IF(K23*0.25-0.5<0,0,K23*0.25-0.5),0)-R23-P23 -> 0 | S23: =K23+N23+P23+Q23-M23 -> 0 | T23: =IF(S23<0,"ATENÇÃO","OK") -> OK
C24: 21 | E24: 101 a 500 un. | F24: 02-12 | G24: 50031-001 | H24: 339039.63 | I24: Cartaz | J24: 5.59 | K24: 0 | L24: =IF(SUM(U24:AK24)>K24+N24,K24+N24,SUM(U24:AK24)) -> 0 | M24: =(SUM(U24:AK24)) -> 0 | O24: =ROUND(IF(K24*0.25-0.5<0,0,K24*0.25-0.5),0)-R24-P24 -> 0 | S24: =K24+N24+P24+Q24-M24 -> 0 | T24: =IF(S24<0,"ATENÇÃO","OK") -> OK
A25: 12 | B25: MULTYGRAFHIC EDITORA LTDA CNPJ 34.382.012/0001-40 | C25: 22 | D25: CARTAZ FORMATO A3; FORMATO A3 = 30 (largura) x 42 (altura) cm; Papel Couchê Brilho, com gramatura 115 G; COR DE IMPRESSÃO 4 CORES (Colorido) - impressão só frente (sem verso) | E25: até 100 un. | F25: 02-12 | G25: 50031-001 | H25: 339039.63 | I25: Cartaz | J25: 3.4 | K25: 500 | L25: =IF(SUM(U25:AK25)>K25+N25,K25+N25,SUM(U25:AK25)) -> 0 | M25: =(SUM(U25:AK25)) -> 0 | O25: =ROUND(IF(K25*0.25-0.5<0,0,K25*0.25-0.5),0)-R25-P25 -> 125 | S25: =K25+N25+P25+Q25-M25 -> 500 | T25: =IF(S25<0,"ATENÇÃO","OK") -> OK
C26: 23 | E26: 101 a 500 un. | F26: 02-12 | G26: 50031-001 | H26: 339039.63 | I26: Cartaz | J26: 1.8 | K26: 0 | L26: =IF(SUM(U26:AK26)>K26+N26,K26+N26,SUM(U26:AK26)) -> 0 | M26: =(SUM(U26:AK26)) -> 0 | O26: =ROUND(IF(K26*0.25-0.5<0,0,K26*0.25-0.5),0)-R26-P26 -> 0 | S26: =K26+N26+P26+Q26-M26 -> 0 | T26: =IF(S26<0,"ATENÇÃO","OK") -> OK
A27: 13 | B27: MULTYGRAFHIC EDITORA LTDA CNPJ 34.382.012/0001-40 | C27: 24 | D27: FLYER FRENTE E VERSO; FORMATO A5 = 15 (largura) X 21 (altura) cm; Papel Couchê Brilho, com gramatura 115 G; COR DE IMPRESSÃO 4 CORES (Colorido) - impressão frente e verso | E27: 100 a 1.000 un. | F27: 02-12 | G27: 50031-001 | H27: 339039.63 | I27: Flyer | J27: 0.33 | K27: 0 | L27: =IF(SUM(U27:AK27)>K27+N27,K27+N27,SUM(U27:AK27)) -> 0 | M27: =(SUM(U27:AK27)) -> 0 | O27: =ROUND(IF(K27*0.25-0.5<0,0,K27*0.25-0.5),0)-R27-P27 -> 0 | S27: =K27+N27+P27+Q27-M27 -> 0 | T27: =IF(S27<0,"ATENÇÃO","OK") -> OK
C28: 25 | E28: acima de 1.001 un. | F28: 02-12 | G28: 50031-001 | H28: 339039.63 | I28: Flyer | J28: 0.19 | K28: 0 | L28: =IF(SUM(U28:AK28)>K28+N28,K28+N28,SUM(U28:AK28)) -> 0 | M28: =(SUM(U28:AK28)) -> 0 | O28: =ROUND(IF(K28*0.25-0.5<0,0,K28*0.25-0.5),0)-R28-P28 -> 0 | S28: =K28+N28+P28+Q28-M28 -> 0 | T28: =IF(S28<0,"ATENÇÃO","OK") -> OK
A29: 14 | B29: MULTYGRAFHIC EDITORA LTDA CNPJ 34.382.012/0001-40 | C29: 26 | D29: FOLDER FRENTE E VERSO; FORMATO A4 = 29,7 (largura) X 21 (altura) cm; Papel Couchê Brilho ou Fosco, com gramatura 115 G; COR DE IMPRESSÃO 4 CORES (Colorido) - impressão frente e verso. Com UMA dobra. | E29: 100 a 1.000 un. | F29: 02-12 | G29: 50031-001 | H29: 339039.63 339030.16 | I29: Peça | J29: 0.3 | K29: 2000 | L29: =IF(SUM(U29:AK29)>K29+N29,K29+N29,SUM(U29:AK29)) -> 1000 | M29: =(SUM(U29:AK29)) -> 1000 | O29: =ROUND(IF(K29*0.25-0.5<0,0,K29*0.25-0.5),0)-R29-P29 -> 500 | S29: =K29+N29+P29+Q29-M29 -> 1000 | T29: =IF(S29<0,"ATENÇÃO","OK") -> OK | X29: 1000
C30: 27 | E30: acima de 1.001 un. | F30: 02-12 | G30: 50031-001 | H30: 339039.63 | I30: Peça | J30: 0.25 | K30: 0 | L30: =IF(SUM(U30:AK30)>K30+N30,K30+N30,SUM(U30:AK30)) -> 0 | M30: =(SUM(U30:AK30)) -> 0 | O30: =ROUND(IF(K30*0.25-0.5<0,0,K30*0.25-0.5),0)-R30-P30 -> 0 | S30: =K30+N30+P30+Q30-M30 -> 0 | T30: =IF(S30<0,"ATENÇÃO","OK") -> OK
A31: 15 | B31: FONTANA & JOAQUIM LTDA CNPJ 31.381.381/0001-20 | C31: 28 | D31: FOLDER. Formato aberto: 39 X 28 cm; cor de impressão 4 cores (colorido - impressão frente e verso); papel couchê fosco, gramatura 150g; acabamento: folder dobrado em 3 partes iguais. DUAS dobras | E31: 100 a 1.000 un. | F31: 02-12 | G31: 50031-001 | H31: 339039.63 | I31: Peça | J31: 1.3 | K31: 0 | L31: =IF(SUM(U31:AK31)>K31+N31,K31+N31,SUM(U31:AK31)) -> 0 | M31: =(SUM(U31:AK31)) -> 0 | O31: =ROUND(IF(K31*0.25-0.5<0,0,K31*0.25-0.5),0)-R31-P31 -> 0 | S31: =K31+N31+P31+Q31-M31 -> 0 | T31: =IF(S31<0,"ATENÇÃO","OK") -> OK
C32: 29 | E32: acima de 1.001 un. | H32: 339039.63 | I32: Peça | J32: 0.3 | K32: 0 | L32: =IF(SUM(U32:AK32)>K32+N32,K32+N32,SUM(U32:AK32)) -> 0 | M32: =(SUM(U32:AK32)) -> 0 | O32: =ROUND(IF(K32*0.25-0.5<0,0,K32*0.25-0.5),0)-R32-P32 -> 0 | S32: =K32+N32+P32+Q32-M32 -> 0 | T32: =IF(S32<0,"ATENÇÃO","OK") -> OK
A33: 16 | B33: VIXCARD COMERCIO, SERVICOS E IMPORTACAO DE ARTIGOS, PARA IDENTIFICACAO LTDA, CNPJ 02.583.967/0001-79 | C33: 30 | D33: Confecção de crachás credencial e cordão personalizados com dados variáveis. CREDENCIAL: pvc, tamanho 9-10 x 14-15 cm em apresentação vertical ou horizontal, cores 4x4, resolução mínima 300 dpi's, borda arredondada, furo central ovoide. CORDÃO: personalizado, poliester acetinado, largura entre 2 e 3 cm e comprimento de 85 cm, acabamento em jacaré. Deverá acompanhar o desenvolvimento da arte para aprovação pela UDESC | E33: 14-15 x 9-10 cm | F33: 02-12 | G33: 50031-001 | H33: 339039.63 339030.44 | I33: Peça | J33: 7.8 | K33: 3000 | L33: =IF(SUM(U33:AK33)>K33+N33,K33+N33,SUM(U33:AK33)) -> 2830 | M33: =(SUM(U33:AK33)) -> 2830 | N33: -170 | O33: =ROUND(IF(K33*0.25-0.5<0,0,K33*0.25-0.5),0)-R33-P33 -> 750 | S33: =K33+N33+P33+Q33-M33 -> 0 | T33: =IF(S33<0,"ATENÇÃO","OK") -> OK | U33: 1310 | Y33: 550 | AB33: 150 | AD33: 820
A34: 17 | B34: MULTYGRAFHIC EDITORA LTDA CNPJ 34.382.012/0001-40 | C34: 31 | D34: Minifolder de Bolso. Papel Offset 240 g/m². Formato fechado: 70 x 95 mm. Formato aberto: 425 x 95 mm. Cores: 4 x 4 cores Manuseio: 5 dobras paralelas, refilo. Acabamento: laminação fosca | E34: até 1.000 un. | H34: 339039.63 | I34: Peça | J34: 1.5 | L34: =IF(SUM(U34:AK34)>K34+N34,K34+N34,SUM(U34:AK34)) -> 0 | M34: =(SUM(U34:AK34)) -> 0 | O34: =ROUND(IF(K34*0.25-0.5<0,0,K34*0.25-0.5),0)-R34-P34 -> 0 | S34: =K34+N34+P34+Q34-M34 -> 0 | T34: =IF(S34<0,"ATENÇÃO","OK") -> OK
C35: 32 | E35: 5000 un. | H35: 339039.63 | I35: Peça | J35: 0.9 | L35: =IF(SUM(U35:AK35)>K35+N35,K35+N35,SUM(U35:AK35)) -> 0 | M35: =(SUM(U35:AK35)) -> 0 | O35: =ROUND(IF(K35*0.25-0.5<0,0,K35*0.25-0.5),0)-R35-P35 -> 0 | S35: =K35+N35+P35+Q35-M35 -> 0 | T35: =IF(S35<0,"ATENÇÃO","OK") -> OK
K36: =SUM(K4:K35) -> 7215 | S36: =SUM(S4:S35) -> 2794 | T36: =IF(S36<0,"ATENÇÃO","OK") -> OK | U36: =SUMPRODUCT($J$4:$J$35,U4:U35) -> 10218 | V36: =SUMPRODUCT($J$4:$J$35,V4:V35) -> 498.75 | W36: =SUMPRODUCT($J$4:$J$35,W4:W35) -> 399.66 | X36: =SUMPRODUCT($J$4:$J$35,X4:X35) -> 300 | Y36: =SUMPRODUCT($J$4:$J$35,Y4:Y35) -> 4290 | Z36: =SUMPRODUCT($J$4:$J$35,Z4:Z35) -> 1773.1 | AA36: =SUMPRODUCT($J$4:$J$35,AA4:AA35) -> 315 | AB36: =SUMPRODUCT($J$4:$J$35,AB4:AB35) -> 1170 | ... AH36: =SUMPRODUCT($J$4:$J$35,AH4:AH35) -> 0

Sheet BU
A1: PROCESSO: PE 630/2025 - SGPE 52651/2024 | D1: OBJETO: Contratação de empresa especializada em Serviços Gráficos (IMPRESSOS ADAPTADOS, BANNERS, ADESIVOS, ENTRE OUTROS) – TODA UDESC | K1: VIGÊNCIA DA ATA: 29/05/2025 até 29/05/2026 | U1: AF nº 1396/2025 Qtde. DT | V1: AF nº 1706/2025 Qtde. DT | W1: AF nº 1708/2025 Qtde. DT | X1: AF nº 1710/2025 Qtde. DT | Y1: AF nº 1758/2025 Qtde. DT | Z1: AF nº 313/2026 Qtde. DT | AA1: AF nº 737/2026 Qtde. DT | AB1: AF nº 763/2026 Qtde. DT | AC1: AF nº XXXX/2025 Qtde. DT | AD1: AF nº XXXX/2025 Qtde. DT | AE1: AF nº XXXX/2025 Qtde. DT | AF1: AF nº XXXX/2025 Qtde. DT | AG1: AF nº XXXX/2025 Qtde. DT | AH1: AF nº XXXX/2025 Qtde. DT | AI1: AF nº XXXX/2025 Qtde. DT
A2: CENTRO PARTICIPANTE: REITORIA/BU | K2: OBS: VALOR MÍNIMO DA OS: R$ 300,00
A3: Lote | B3: Empresa | C3: Item | D3: Especificação | E3: Dimensões | F3: Grupo-Classe | G3: Código NUC | H3: Detalhamento | I3: Unidade | J3: Preço Unitário | K3: Qtde Registrada | L3: QUANTIDADE UTILIZADA da Ata | M3: QUANTIDADE UTILIZADA Total | N3: Quantidade Receb/Cedida | O3: QUANTIDADE DISPONÍVEL PARA ADITIVAR | P3: Quantidade Aditivada Própria | Q3: Quantidade Aditivos recebidos | R3: Quantidade Aditivos cedidos | S3: Saldo / Automático | T3: ALERTA | U3: 45869 | V3: 45905 | W3: 45905 | X3: 45905 | Y3: 45912 | Z3: 46086 | AA3: 46153 | AB3: 46156 | AC3: ...../...../...... | AD3: ...../...../...... | AE3: ...../...../...... | AF3: ...../...../...... | AG3: ...../...../...... | AH3: ...../...../...... | AI3: ...../...../......
A4: 1 | B4: YNOV DISTRIBUICAO DE PRODUTOS LTDA ME CNPJ 38.903.127/0001-93 | C4: 1 | D4: Banner em lona, impressão digital 4x0 cores, resolução mínima 720 dpi's e 280 g/m² de gramatura mínima; e suporte: 1) em madeira em duas das menores extremidades e acabamento com ponteira de PVC (grampeada) e corda trançada de no mínimo 4mm e de resistência suficiente e compatível com o banner; ou 2) com ilhóses dispostos de 20 em 20 cm, em ferro ou alumínio e de diâmetro compatível com a corda utilizada - corda trançada de no mínimo 4mm e de resistência suficiente e compatível com o banner. DIMENSÕES | E4: 50 X 70cm | F4: 02-12 | G4: 50031-001 | H4: 339039.63 339030.16 | I4: Unidade | J4: 11.07 | L4: =IF(SUM(U4:AL4)>K4+N4,K4+N4,SUM(U4:AL4)) -> 18 | M4: =(SUM(U4:AL4)) -> 18 | N4: 18 | O4: =ROUND(IF(K4*0.25-0.5<0,0,K4*0.25-0.5),0)-R4-P4 -> 0 | S4: =K4+N4+P4+Q4-M4 -> 0 | T4: =IF(S4<0,"ATENÇÃO","OK") -> OK | AA4: 18
C5: 2 | E5: 90 X 150cm | F5: 02-12 | G5: 50031-001 | H5: 339039.63 339030.16 | I5: Unidade | J5: 35.35 | K5: 30 | L5: =IF(SUM(U5:AL5)>K5+N5,K5+N5,SUM(U5:AL5)) -> 201 | M5: =(SUM(U5:AL5)) -> 201 | N5: =150+21 -> 171 | O5: =ROUND(IF(K5*0.25-0.5<0,0,K5*0.25-0.5),0)-R5-P5 -> 7 | S5: =K5+N5+P5+Q5-M5 -> 0 | T5: =IF(S5<0,"ATENÇÃO","OK") -> OK | X5: 30 | AA5: 171
C6: 3 | E6: 110 X 150cm | F6: 02-12 | G6: 50031-001 | H6: 339039.63 339030.16 | I6: Unidade | J6: 43 | L6: =IF(SUM(U6:AL6)>K6+N6,K6+N6,SUM(U6:AL6)) -> 0 | M6: =(SUM(U6:AL6)) -> 0 | O6: =ROUND(IF(K6*0.25-0.5<0,0,K6*0.25-0.5),0)-R6-P6 -> 0 | S6: =K6+N6+P6+Q6-M6 -> 0 | T6: =IF(S6<0,"ATENÇÃO","OK") -> OK
C7: 4 | E7: 130 X 180cm | F7: 02-12 | G7: 50031-001 | H7: 339039.63 339030.16 | I7: Unidade | J7: 61.01 | L7: =IF(SUM(U7:AL7)>K7+N7,K7+N7,SUM(U7:AL7)) -> 0 | M7: =(SUM(U7:AL7)) -> 0 | O7: =ROUND(IF(K7*0.25-0.5<0,0,K7*0.25-0.5),0)-R7-P7 -> 0 | S7: =K7+N7+P7+Q7-M7 -> 0 | T7: =IF(S7<0,"ATENÇÃO","OK") -> OK
C8: 5 | E8: 80 X 120cm | F8: 02-12 | G8: 50031-001 | H8: 339039.63 339030.16 | I8: Unidade | J8: 26.25 | K8: 60 | L8: =IF(SUM(U8:AL8)>K8+N8,K8+N8,SUM(U8:AL8)) -> 62 | M8: =(SUM(U8:AL8)) -> 62 | N8: 2 | O8: =ROUND(IF(K8*0.25-0.5<0,0,K8*0.25-0.5),0)-R8-P8 -> 15 | S8: =K8+N8+P8+Q8-M8 -> 0 | T8: =IF(S8<0,"ATENÇÃO","OK") -> OK | X8: 60 | AA8: 2
A9: 2 | B9: ARAÇÁ MATERIAL PUBLICITARIO EIRELLI CNPJ 16.600.308/0001-08 | C9: 6 | D9: Banner em papel sulfite - impressão digital 4x0 cores, resolução mínima 720 dpi's e 120 g/m² de gramatura mínima; e suporte: 1) em madeira em duas das menores extremidades e acabamento com ponteira de PVC (grampeada) e corda trançada de no mínimo 4mm e de resistência suficiente e compatível com o banner; ou 2) Perfil C de plástico para acabamento de faixas e banners com 16 mm - e corda trançada de no mínimo 4mm e de resistência suficiente e compatível com o banner. DIMENSÕES | E9: 50 X 70cm | F9: 02-12 | G9: 50031-001 | H9: 339039.63 339030.44 | I9: Unidade | J9: 10.01 | K9: 0 | L9: =IF(SUM(U9:AL9)>K9+N9,K9+N9,SUM(U9:AL9)) -> 0 | M9: =(SUM(U9:AL9)) -> 0 | O9: =ROUND(IF(K9*0.25-0.5<0,0,K9*0.25-0.5),0)-R9-P9 -> 0 | S9: =K9+N9+P9+Q9-M9 -> 0 | T9: =IF(S9<0,"ATENÇÃO","OK") -> OK
C10: 7 | E10: 90 X 120cm | F10: 02-12 | G10: 50031-001 | H10: 339039.63 339030.44 | I10: Unidade | J10: 49.81 | K10: 0 | L10: =IF(SUM(U10:AL10)>K10+N10,K10+N10,SUM(U10:AL10)) -> 98 | M10: =(SUM(U10:AL10)) -> 98 | N10: 98 | O10: =ROUND(IF(K10*0.25-0.5<0,0,K10*0.25-0.5),0)-R10-P10 -> 0 | S10: =K10+N10+P10+Q10-M10 -> 0 | T10: =IF(S10<0,"ATENÇÃO","OK") -> OK | AB10: 98
A11: 3 | B11: ARAÇÁ MATERIAL PUBLICITARIO EIRELLI CNPJ 16.600.308/0001-08 | C11: 8 | D11: Frontlight em lona, impressão digital 4x0 cores, resolução mínima 1200 dpi's e 440 g/m² de gramatura mínima; fixado com ilhóses dispostos de 20 em 20 cm, em ferro ou alumínio e de diâmetro compatível com a corda utilizada - corda trançada de no mínimo 4mm e de resistência suficiente e compatível com o frontlight. INSTALADO E RETIRADO. DIMENSÕES | E11: 255 X 275cm | F11: 02-12 | G11: 50031-001 | H11: 339039.63 339030.44 | I11: Unidade | J11: 199.83 | K11: 0 | L11: =IF(SUM(U11:AL11)>K11+N11,K11+N11,SUM(U11:AL11)) -> 2 | M11: =(SUM(U11:AL11)) -> 2 | N11: 2 | O11: =ROUND(IF(K11*0.25-0.5<0,0,K11*0.25-0.5),0)-R11-P11 -> 0 | S11: =K11+N11+P11+Q11-M11 -> 0 | T11: =IF(S11<0,"ATENÇÃO","OK") -> OK | AB11: 2
C12: 9 | E12: 295 X 875cm | F12: 02-12 | G12: 50031-001 | H12: 339039.63 339030.44 | I12: Unidade | J12: 2456.99 | K12: 0 | L12: =IF(SUM(U12:AL12)>K12+N12,K12+N12,SUM(U12:AL12)) -> 4 | M12: =(SUM(U12:AL12)) -> 4 | N12: 4 | O12: =ROUND(IF(K12*0.25-0.5<0,0,K12*0.25-0.5),0)-R12-P12 -> 0 | S12: =K12+N12+P12+Q12-M12 -> 0 | T12: =IF(S12<0,"ATENÇÃO","OK") -> OK | AB12: 4
C13: 10 | E13: 310 X 914cm | F13: 02-12 | G13: 50031-001 | H13: 339039.63 339030.44 | I13: Unidade | J13: 3000 | K13: 0 | L13: =IF(SUM(U13:AL13)>K13+N13,K13+N13,SUM(U13:AL13)) -> 0 | M13: =(SUM(U13:AL13)) -> 0 | O13: =ROUND(IF(K13*0.25-0.5<0,0,K13*0.25-0.5),0)-R13-P13 -> 0 | S13: =K13+N13+P13+Q13-M13 -> 0 | T13: =IF(S13<0,"ATENÇÃO","OK") -> OK
A14: 4 | B14: YNOV DISTRIBUICAO DE PRODUTOS LTDA ME CNPJ 38.903.127/0001-93 | C14: 11 | D14: Adesivo em vinil, impressão digital 4x0 cores, resolução mínima 300 dpi's e 26 a 30 g/m² de gramatura mínima de cola; acabamento meio corte especial com faca. DIMENSÕES | E14: 75cm X metro linear | F14: 02-12 | G14: 50031-001 | H14: 339039.63 339030.44 | I14: metro | J14: 29.86 | K14: 0 | L14: =IF(SUM(U14:AL14)>K14+N14,K14+N14,SUM(U14:AL14)) -> 11 | M14: =(SUM(U14:AL14)) -> 11 | N14: =2+9 -> 11 | O14: =ROUND(IF(K14*0.25-0.5<0,0,K14*0.25-0.5),0)-R14-P14 -> 0 | S14: =K14+N14+P14+Q14-M14 -> 0 | T14: =IF(S14<0,"ATENÇÃO","OK") -> OK | AA14: 11
C15: 12 | E15: 99 x 44,5cm | F15: 02-12 | G15: 50031-001 | H15: 339039.63 339030.44 | I15: Unidade | J15: 17.93 | K15: 0 | L15: =IF(SUM(U15:AL15)>K15+N15,K15+N15,SUM(U15:AL15)) -> 0 | M15: =(SUM(U15:AL15)) -> 0 | O15: =ROUND(IF(K15*0.25-0.5<0,0,K15*0.25-0.5),0)-R15-P15 -> 0 | S15: =K15+N15+P15+Q15-M15 -> 0 | T15: =IF(S15<0,"ATENÇÃO","OK") -> OK
A16: 5 | B16: ARAÇÁ MATERIAL PUBLICITARIO EIRELLI CNPJ 16.600.308/0001-08 | C16: 13 | D16: Adesivo recortado em vinil colorido (cores diversas a escolher), para adesivagem. DIMENSÃO | E16: 90cm x metro linear | F16: 02-12 | G16: 50031-001 | H16: 339039.63 339030.44 | I16: metro | J16: 43.49 | K16: 10 | L16: =IF(SUM(U16:AL16)>K16+N16,K16+N16,SUM(U16:AL16)) -> 137.5 | M16: =(SUM(U16:AL16)) -> 137.5 | N16: =7+50+41+29.5 -> 127.5 | O16: =ROUND(IF(K16*0.25-0.5<0,0,K16*0.25-0.5),0)-R16-P16 -> 2 | S16: =K16+N16+P16+Q16-M16 -> 0 | T16: =IF(S16<0,"ATENÇÃO","OK") -> OK | W16: 10 | AB16: 127.5
A17: 6 | B17: VIXCARD COMERCIO, SERVICOS E IMPORTACAO DE ARTIGOS PARA IDENTIFICACAO LTDA CNPJ 02.583.967/0001-79 | C17: 14 | D17: Crachá em cartão PVC laminado branco, impressão digital 4x1 cores, resolução mínima 300 dpi's e espessura de 0,70 a 0,80mm cantos arredondados, com perfuração entre 15 a 20mm compatível com grampo de metal tipo jacaré do cordão. Deverá acompanhar o desenvolvimento da arte para aprovação pela UDESC. Acompanha cordão para crachá personalizado em impressão digital, com grampo de metal tipo jacaré, em 100% poliéster. Crachá 5,4 X 8,60cm , cordão 1,3 a 1,6 X 80 a 90cm | E17: Crachá c/ cordão | F17: 02-12 | G17: 50031-001 | H17: 339039.63 339030.44 | I17: Unidade | J17: 10.5 | K17: 100 | L17: =IF(SUM(U17:AL17)>K17+N17,K17+N17,SUM(U17:AL17)) -> 100 | M17: =(SUM(U17:AL17)) -> 100 | N17: =250+50+90+47 -> 437 | O17: =ROUND(IF(K17*0.25-0.5<0,0,K17*0.25-0.5),0)-R17-P17 -> 25 | S17: =K17+N17+P17+Q17-M17 -> 437 | T17: =IF(S17<0,"ATENÇÃO","OK") -> OK | Z17: 100
A18: 7 | B18: GALERIA 23 COMUNICAÇÃO VISUAL E GRÁFICA CNPJ 51.257.431/0001-79 | C18: 15 | D18: Placa em PVC branco, impressão digital 4x0 cores, resolução mínima 300 dpi's e espessura de 2mm, com fixação dupla face de espuma acrílica para ambiente externo de no mínimo 20mm de largura e de no mínimo 10cm de tamanho para cada 150g de placa. | E18: 200 X 100cm | F18: 02-12 | G18: 50031-001 | H18: 339039.63 | I18: Unidade | J18: 151.96 | K18: 0 | L18: =IF(SUM(U18:AL18)>K18+N18,K18+N18,SUM(U18:AL18)) -> 0 | M18: =(SUM(U18:AL18)) -> 0 | O18: =ROUND(IF(K18*0.25-0.5<0,0,K18*0.25-0.5),0)-R18-P18 -> 0 | S18: =K18+N18+P18+Q18-M18 -> 0 | T18: =IF(S18<0,"ATENÇÃO","OK") -> OK
A19: 8 | B19: YNOV DISTRIBUICAO DE PRODUTOS LTDA ME CNPJ 38.903.127/0001-93 | C19: 16 | D19: Placa em PVC, branca, impressão digital 4x0 cores, resolução mínima 300dpi's e espessura de 2mm, acabamento corte a laser, inclui adequação de layout, instalada com fita. | E19: 70 x 35cm | F19: 02-12 | G19: 50031-001 | H19: 339039.63 | I19: Unidade | J19: 53.55 | K19: 0 | L19: =IF(SUM(U19:AL19)>K19+N19,K19+N19,SUM(U19:AL19)) -> 70 | M19: =(SUM(U19:AL19)) -> 70 | N19: =30+20+20 -> 70 | O19: =ROUND(IF(K19*0.25-0.5<0,0,K19*0.25-0.5),0)-R19-P19 -> 0 | S19: =K19+N19+P19+Q19-M19 -> 0 | T19: =IF(S19<0,"ATENÇÃO","OK") -> OK | AA19: 70
C20: 17 | E20: 14 x 14cm | F20: 02-12 | G20: 50031-001 | H20: 339039.63 | I20: Unidade | J20: 7.35 | K20: 0 | L20: =IF(SUM(U20:AL20)>K20+N20,K20+N20,SUM(U20:AL20)) -> 0 | M20: =(SUM(U20:AL20)) -> 0 | O20: =ROUND(IF(K20*0.25-0.5<0,0,K20*0.25-0.5),0)-R20-P20 -> 0 | S20: =K20+N20+P20+Q20-M20 -> 0 | T20: =IF(S20<0,"ATENÇÃO","OK") -> OK
A21: 9 | B21: FONTANA & JOAQUIM LTDA CNPJ 31.381.381/0001-20 | C21: 18 | D21: CARTAZ. Formato 30 (largura) x 40 (altura) cm; Impresso em papel fotográfico de alta qualidade, brilho, com gramatura 200g; qualidade de impressão de pelo menos 300 DPIs; Impressão colorida 4 cores - impressão só frente (sem verso) | E21: 30 x 40 cm | F21: 02-12 | G21: 50031-001 | H21: 339039.63 339030.16 | I21: Peça | J21: 10.85 | K21: 100 | L21: =IF(SUM(U21:AL21)>K21+N21,K21+N21,SUM(U21:AL21)) -> 0 | M21: =(SUM(U21:AL21)) -> 0 | O21: =ROUND(IF(K21*0.25-0.5<0,0,K21*0.25-0.5),0)-R21-P21 -> 25 | S21: =K21+N21+P21+Q21-M21 -> 100 | T21: =IF(S21<0,"ATENÇÃO","OK") -> OK | V21: =100-100 -> 0
A22: 10 | B22: FONTANA & JOAQUIM LTDA CNPJ 31.381.381/0001-20 | C22: 19 | D22: CARTÃO DE VISITA; FORMATO = 9 (largura) X 5 (altura) cm; Papel Couchê Fosco, com gramatura 240 G; COR DE IMPRESSÃO 4 CORES (Colorido) - impressão frente e verso | E22: 100 a 500 un. | F22: 02-12 | G22: 50031-001 | H22: 339039.63 | I22: Cartão | J22: 0.71 | K22: 0 | L22: =IF(SUM(U22:AL22)>K22+N22,K22+N22,SUM(U22:AL22)) -> 0 | M22: =(SUM(U22:AL22)) -> 0 | O22: =ROUND(IF(K22*0.25-0.5<0,0,K22*0.25-0.5),0)-R22-P22 -> 0 | S22: =K22+N22+P22+Q22-M22 -> 0 | T22: =IF(S22<0,"ATENÇÃO","OK") -> OK
A23: 11 | B23: FONTANA & JOAQUIM LTDA CNPJ 31.381.381/0001-20 | C23: 20 | D23: CARTAZ FORMATO A2; FORMATO A2 = 42 (largura) x 60 (altura) cm; Papel Couchê Brilho, com gramatura 115 G; COR DE IMPRESSÃO 4 CORES (Colorido) - impressão só frente (sem verso) | E23: até 100 un. | F23: 02-12 | G23: 50031-001 | H23: 339039.63 | I23: Cartaz | J23: 21.18 | K23: 0 | L23: =IF(SUM(U23:AL23)>K23+N23,K23+N23,SUM(U23:AL23)) -> 0 | M23: =(SUM(U23:AL23)) -> 0 | O23: =ROUND(IF(K23*0.25-0.5<0,0,K23*0.25-0.5),0)-R23-P23 -> 0 | S23: =K23+N23+P23+Q23-M23 -> 0 | T23: =IF(S23<0,"ATENÇÃO","OK") -> OK
C24: 21 | E24: 101 a 500 un. | F24: 02-12 | G24: 50031-001 | H24: 339039.63 | I24: Cartaz | J24: 5.59 | K24: 0 | L24: =IF(SUM(U24:AL24)>K24+N24,K24+N24,SUM(U24:AL24)) -> 0 | M24: =(SUM(U24:AL24)) -> 0 | O24: =ROUND(IF(K24*0.25-0.5<0,0,K24*0.25-0.5),0)-R24-P24 -> 0 | S24: =K24+N24+P24+Q24-M24 -> 0 | T24: =IF(S24<0,"ATENÇÃO","OK") -> OK
A25: 12 | B25: MULTYGRAFHIC EDITORA LTDA, CNPJ 34.382.012/0001-40 | C25: 22 | D25: CARTAZ FORMATO A3; FORMATO A3 = 30 (largura) x 42 (altura) cm; Papel Couchê Brilho, com gramatura 115 G; COR DE IMPRESSÃO 4 CORES (Colorido) - impressão só frente (sem verso) | E25: até 100 un. | F25: 02-12 | G25: 50031-001 | H25: 339039.63 339030.16 | I25: Cartaz | J25: 3.4 | K25: 300 | L25: =IF(SUM(U25:AL25)>K25+N25,K25+N25,SUM(U25:AL25)) -> 0 | M25: =(SUM(U25:AL25)) -> 0 | O25: =ROUND(IF(K25*0.25-0.5<0,0,K25*0.25-0.5),0)-R25-P25 -> 75 | S25: =K25+N25+P25+Q25-M25 -> 300 | T25: =IF(S25<0,"ATENÇÃO","OK") -> OK | Y25: =300-300 -> 0
C26: 23 | E26: 101 a 500 un. | F26: 02-12 | G26: 50031-001 | H26: 339039.63 | I26: Cartaz | J26: 1.8 | K26: 0 | L26: =IF(SUM(U26:AL26)>K26+N26,K26+N26,SUM(U26:AL26)) -> 0 | M26: =(SUM(U26:AL26)) -> 0 | O26: =ROUND(IF(K26*0.25-0.5<0,0,K26*0.25-0.5),0)-R26-P26 -> 0 | S26: =K26+N26+P26+Q26-M26 -> 0 | T26: =IF(S26<0,"ATENÇÃO","OK") -> OK
A27: 13 | B27: MULTYGRAFHIC EDITORA LTDA CNPJ 34.382.012/0001-40 | C27: 24 | D27: FLYER FRENTE E VERSO; FORMATO A5 = 15 (largura) X 21 (altura) cm; Papel Couchê Brilho, com gramatura 115 G; COR DE IMPRESSÃO 4 CORES (Colorido) - impressão frente e verso | E27: 100 a 1.000 un. | F27: 02-12 | G27: 50031-001 | H27: 339039.63 | I27: Flyer | J27: 0.33 | K27: 1000 | L27: =IF(SUM(U27:AL27)>K27+N27,K27+N27,SUM(U27:AL27)) -> 1000 | M27: =(SUM(U27:AL27)) -> 1000 | O27: =ROUND(IF(K27*0.25-0.5<0,0,K27*0.25-0.5),0)-R27-P27 -> 250 | S27: =K27+N27+P27+Q27-M27 -> 0 | T27: =IF(S27<0,"ATENÇÃO","OK") -> OK | U27: 1000
C28: 25 | E28: acima de 1.001 un. | F28: 02-12 | G28: 50031-001 | H28: 339039.63 | I28: Flyer | J28: 0.19 | K28: 0 | L28: =IF(SUM(U28:AL28)>K28+N28,K28+N28,SUM(U28:AL28)) -> 0 | M28: =(SUM(U28:AL28)) -> 0 | O28: =ROUND(IF(K28*0.25-0.5<0,0,K28*0.25-0.5),0)-R28-P28 -> 0 | S28: =K28+N28+P28+Q28-M28 -> 0 | T28: =IF(S28<0,"ATENÇÃO","OK") -> OK
A29: 14 | B29: MULTYGRAFHIC EDITORA LTDA CNPJ 34.382.012/0001-40 | C29: 26 | D29: FOLDER FRENTE E VERSO; FORMATO A4 = 29,7 (largura) X 21 (altura) cm; Papel Couchê Brilho ou Fosco, com gramatura 115 G; COR DE IMPRESSÃO 4 CORES (Colorido) - impressão frente e verso. Com UMA dobra. | E29: 100 a 1.000 un. | F29: 02-12 | G29: 50031-001 | H29: 339039.63 339030.16 | I29: Peça | J29: 0.3 | K29: 500 | L29: =IF(SUM(U29:AL29)>K29+N29,K29+N29,SUM(U29:AL29)) -> 0 | M29: =(SUM(U29:AL29)) -> 0 | O29: =ROUND(IF(K29*0.25-0.5<0,0,K29*0.25-0.5),0)-R29-P29 -> 125 | S29: =K29+N29+P29+Q29-M29 -> 500 | T29: =IF(S29<0,"ATENÇÃO","OK") -> OK | Y29: =500-500 -> 0
C30: 27 | E30: acima de 1.001 un. | F30: 02-12 | G30: 50031-001 | H30: 339039.63 | I30: Peça | J30: 0.25 | K30: 0 | L30: =IF(SUM(U30:AL30)>K30+N30,K30+N30,SUM(U30:AL30)) -> 0 | M30: =(SUM(U30:AL30)) -> 0 | O30: =ROUND(IF(K30*0.25-0.5<0,0,K30*0.25-0.5),0)-R30-P30 -> 0 | S30: =K30+N30+P30+Q30-M30 -> 0 | T30: =IF(S30<0,"ATENÇÃO","OK") -> OK
A31: 15 | B31: FONTANA & JOAQUIM LTDA CNPJ 31.381.381/0001-20 | C31: 28 | D31: FOLDER. Formato aberto: 39 X 28 cm; cor de impressão 4 cores (colorido - impressão frente e verso); papel couchê fosco, gramatura 150g; acabamento: folder dobrado em 3 partes iguais. DUAS dobras | E31: 100 a 1.000 un. | F31: 02-12 | G31: 50031-001 | H31: 339039.63 339030.16 | I31: Peça | J31: 1.3 | K31: 1000 | L31: =IF(SUM(U31:AL31)>K31+N31,K31+N31,SUM(U31:AL31)) -> 100 | M31: =(SUM(U31:AL31)) -> 100 | O31: =ROUND(IF(K31*0.25-0.5<0,0,K31*0.25-0.5),0)-R31-P31 -> 250 | S31: =K31+N31+P31+Q31-M31 -> 900 | T31: =IF(S31<0,"ATENÇÃO","OK") -> OK | V31: =1000-900 -> 100
C32: 29 | E32: acima de 1.001 un. | H32: 339039.63 339030.16 | I32: Peça | J32: 0.3 | K32: 4000 | L32: =IF(SUM(U32:AL32)>K32+N32,K32+N32,SUM(U32:AL32)) -> 0 | M32: =(SUM(U32:AL32)) -> 0 | O32: =ROUND(IF(K32*0.25-0.5<0,0,K32*0.25-0.5),0)-R32-P32 -> 1000 | S32: =K32+N32+P32+Q32-M32 -> 4000 | T32: =IF(S32<0,"ATENÇÃO","OK") -> OK | V32: =4000-4000 -> 0
A33: 16 | B33: VIXCARD COMERCIO, SERVICOS E IMPORTACAO DE ARTIGOS PARA IDENTIFICACAO LTDA CNPJ 02.583.967/0001-79 | C33: 30 | D33: Confecção de crachás credencial e cordão personalizados com dados variáveis. CREDENCIAL: pvc, tamanho 9-10 x 14-15 cm em apresentação vertical ou horizontal, cores 4x4, resolução mínima 300 dpi's, borda arredondada, furo central ovoide. CORDÃO: personalizado, poliester acetinado, largura entre 2 e 3 cm e comprimento de 85 cm, acabamento em jacaré. Deverá acompanhar o desenvolvimento da arte para aprovação pela UDESC | E33: 14-15 x 9-10 cm | F33: 02-12 | G33: 50031-001 | H33: 339039.63 | I33: Peça | J33: 7.8 | L33: =IF(SUM(U33:AL33)>K33+N33,K33+N33,SUM(U33:AL33)) -> 0 | M33: =(SUM(U33:AL33)) -> 0 | O33: =ROUND(IF(K33*0.25-0.5<0,0,K33*0.25-0.5),0)-R33-P33 -> 0 | S33: =K33+N33+P33+Q33-M33 -> 0 | T33: =IF(S33<0,"ATENÇÃO","OK") -> OK
A34: 17 | B34: MULTYGRAFHIC EDITORA LTDA CNPJ 34.382.012/0001-40 | C34: 31 | D34: Minifolder de Bolso. Papel Offset 240 g/m². Formato fechado: 70 x 95 mm. Formato aberto: 425 x 95 mm. Cores: 4 x 4 cores Manuseio: 5 dobras paralelas, refilo. Acabamento: laminação fosca | E34: até 1.000 un. | H34: 339039.63 | I34: Peça | J34: 1.5 | L34: =IF(SUM(U34:AL34)>K34+N34,K34+N34,SUM(U34:AL34)) -> 0 | M34: =(SUM(U34:AL34)) -> 0 | O34: =ROUND(IF(K34*0.25-0.5<0,0,K34*0.25-0.5),0)-R34-P34 -> 0 | S34: =K34+N34+P34+Q34-M34 -> 0 | T34: =IF(S34<0,"ATENÇÃO","OK") -> OK
C35: 32 | E35: 5000 un. | H35: 339039.63 | I35: Peça | J35: 0.9 | L35: =IF(SUM(U35:AL35)>K35+N35,K35+N35,SUM(U35:AL35)) -> 0 | M35: =(SUM(U35:AL35)) -> 0 | O35: =ROUND(IF(K35*0.25-0.5<0,0,K35*0.25-0.5),0)-R35-P35 -> 0 | S35: =K35+N35+P35+Q35-M35 -> 0 | T35: =IF(S35<0,"ATENÇÃO","OK") -> OK
K36: =SUM(K4:K35) -> 7100 | U36: =SUMPRODUCT($J$4:$J$35,U4:U35) -> 330 | V36: =SUMPRODUCT($J$4:$J$35,V4:V35) -> 130 | W36: =SUMPRODUCT($J$4:$J$35,W4:W35) -> 434.9 | X36: =SUMPRODUCT($J$4:$J$35,X4:X35) -> 2635.5 | Y36: =SUMPRODUCT($J$4:$J$35,Y4:Y35) -> 0 | Z36: =SUMPRODUCT($J$4:$J$35,Z4:Z35) -> 1050 | AA36: =SUMPRODUCT($J$4:$J$35,AA4:AA35) -> 10373.57 | AB36: =SUMPRODUCT($J$4:$J$35,AB4:AB35) -> 20653.975 | ... AI36: =SUMPRODUCT($J$4:$J$35,AI4:AI35) -> 0
W43: 11.07 | X43: 18 | Y43: =X43*W43 -> 199.26
W44: 35.35 | X44: 171 | Y44: =X44*W44 -> 6044.85
W45: 26.25 | X45: 2 | Y45: =X45*W45 -> 52.5
W46: 29.86 | X46: 11 | Y46: =X46*W46 -> 328.46
...

Sheet MUSEU
A1: PROCESSO: PE 630/2025 - SGPE 52651/2024 | D1: OBJETO: Contratação de empresa especializada em Serviços Gráficos (IMPRESSOS ADAPTADOS, BANNERS, ADESIVOS, ENTRE OUTROS) – TODA UDESC | K1: VIGÊNCIA DA ATA: 29/05/2025 até 29/05/2026 | U1: AF nº 1303/2025 Qtde. DT | V1: AF nº 1335/2025 Qtde. DT | W1: AF nº 2141/2025 Qtde. DT | X1: AF nº 713/2026 Qtde. DT | Y1: AF nº 770/2026 Qtde. DT | Z1: AF nº 771/2026 Qtde. DT | AA1: AF nº 0845/2026 Qtde. DT | AB1: AF nº 0846/2026 Qtde. DT | AC1: AF nº 0847/2026 Qtde. DT | AD1: AF nº XXXX/2025 Qtde. DT | AE1: AF nº XXXX/2025 Qtde. DT | AF1: AF nº XXXX/2025 Qtde. DT | AG1: AF nº XXXX/2025 Qtde. DT | AH1: AF nº XXXX/2025 Qtde. DT | AI1: AF nº XXXX/2025 Qtde. DT
A2: CENTRO PARTICIPANTE: REITORIA/MUSEU | K2: OBS: VALOR MÍNIMO DA OS: R$ 300,00
A3: Lote | B3: Empresa | C3: Item | D3: Especificação | E3: Dimensões | F3: Grupo-Classe | G3: Código NUC | H3: Detalhamento | I3: Unidade | J3: Preço Unitário | K3: Qtde Registrada | L3: QUANTIDADE UTILIZADA da Ata | M3: QUANTIDADE UTILIZADA Total | N3: Quantidade Receb/Cedida | O3: QUANTIDADE DISPONÍVEL PARA ADITIVAR | P3: Quantidade Aditivada Própria | Q3: Quantidade Aditivos recebidos | R3: Quantidade Aditivos cedidos | S3: Saldo / Automático | T3: ALERTA | U3: 45853 | V3: 45855 | W3: 45944 | X3: 46146 | Y3: 46157 | Z3: 46157 | AA3: 46168 | AB3: 46168 | AC3: 46168 | AD3: ...../...../...... | AE3: ...../...../...... | AF3: ...../...../...... | AG3: ...../...../...... | AH3: ...../...../...... | AI3: ...../...../......
A4: 1 | B4: YNOV DISTRIBUICAO DE PRODUTOS LTDA ME, CNPJ 38.903.127/0001-93 | C4: 1 | D4: Banner em lona, impressão digital 4x0 cores, resolução mínima 720 dpi's e 280 g/m² de gramatura mínima; e suporte: 1) em madeira em duas das menores extremidades e acabamento com ponteira de PVC (grampeada) e corda trançada de no mínimo 4mm e de resistência suficiente e compatível com o banner; ou 2) com ilhóses dispostos de 20 em 20 cm, em ferro ou alumínio e de diâmetro compatível com a corda utilizada - corda trançada de no mínimo 4mm e de resistência suficiente e compatível com o banner. DIMENSÕES | E4: 50 X 70cm | F4: 02-12 | G4: 50031-001 | H4: 339039.63 339030.16 | I4: Unidade | J4: 11.07 | K4: 5 | L4: =IF(SUM(U4:AL4)>K4+N4,K4+N4,SUM(U4:AL4)) -> 5 | M4: =(SUM(U4:AL4)) -> 5 | O4: =ROUND(IF(K4*0.25-0.5<0,0,K4*0.25-0.5),0)-R4-P4 -> 1 | S4: =K4+N4+P4+Q4-M4 -> 0 | T4: =IF(S4<0,"ATENÇÃO","OK") -> OK | V4: 5
